BEGIN:VCALENDAR
VERSION:2.0
PRODID:-//1812 Piano Lounge - ECPv6.15.20//NONSGML v1.0//EN
CALSCALE:GREGORIAN
METHOD:PUBLISH
X-WR-CALNAME:1812 Piano Lounge
X-ORIGINAL-URL:https://www.1812pianolounge.com
X-WR-CALDESC:Events for 1812 Piano Lounge
REFRESH-INTERVAL;VALUE=DURATION:PT1H
X-Robots-Tag:noindex
X-PUBLISHED-TTL:PT1H
BEGIN:VTIMEZONE
TZID:America/New_York
BEGIN:DAYLIGHT
TZOFFSETFROM:-0500
TZOFFSETTO:-0400
TZNAME:EDT
DTSTART:20250309T070000
END:DAYLIGHT
BEGIN:STANDARD
TZOFFSETFROM:-0400
TZOFFSETTO:-0500
TZNAME:EST
DTSTART:20251102T060000
END:STANDARD
BEGIN:DAYLIGHT
TZOFFSETFROM:-0500
TZOFFSETTO:-0400
TZNAME:EDT
DTSTART:20260308T070000
END:DAYLIGHT
BEGIN:STANDARD
TZOFFSETFROM:-0400
TZOFFSETTO:-0500
TZNAME:EST
DTSTART:20261101T060000
END:STANDARD
BEGIN:DAYLIGHT
TZOFFSETFROM:-0500
TZOFFSETTO:-0400
TZNAME:EDT
DTSTART:20270314T070000
END:DAYLIGHT
BEGIN:STANDARD
TZOFFSETFROM:-0400
TZOFFSETTO:-0500
TZNAME:EST
DTSTART:20271107T060000
END:STANDARD
END:VTIMEZONE
BEGIN:VEVENT
DTSTART;TZID=America/New_York:20260127T180000
DTEND;TZID=America/New_York:20260127T200000
DTSTAMP:20260421T142251
CREATED:20251209T153215Z
LAST-MODIFIED:20260102T152424Z
UID:932-1769536800-1769544000@www.1812pianolounge.com
SUMMARY:Music Bingo
DESCRIPTION:
URL:https://www.1812pianolounge.com/event/music-trivia-11/
END:VEVENT
BEGIN:VEVENT
DTSTART;TZID=America/New_York:20260126T170000
DTEND;TZID=America/New_York:20260126T200000
DTSTAMP:20260421T142251
CREATED:20260102T194441Z
LAST-MODIFIED:20260102T194441Z
UID:1041-1769446800-1769457600@www.1812pianolounge.com
SUMMARY:Open Mic Night with Tim Harakal
DESCRIPTION:
URL:https://www.1812pianolounge.com/event/open-mic-night-with-tim-harakal-2/
END:VEVENT
BEGIN:VEVENT
DTSTART;TZID=America/New_York:20260125T103000
DTEND;TZID=America/New_York:20260125T133000
DTSTAMP:20260421T142251
CREATED:20260118T203836Z
LAST-MODIFIED:20260118T203836Z
UID:1067-1769337000-1769347800@www.1812pianolounge.com
SUMMARY:Blues Brunch with Bev Conklin
DESCRIPTION:
URL:https://www.1812pianolounge.com/event/blues-brunch-with-bev-conklin-2/
END:VEVENT
BEGIN:VEVENT
DTSTART;TZID=America/New_York:20260124T170000
DTEND;TZID=America/New_York:20260124T220000
DTSTAMP:20260421T142251
CREATED:20251209T153120Z
LAST-MODIFIED:20251209T153120Z
UID:930-1769274000-1769292000@www.1812pianolounge.com
SUMMARY:Lis Bockleman
DESCRIPTION:
URL:https://www.1812pianolounge.com/event/lis-bockleman-3/
END:VEVENT
BEGIN:VEVENT
DTSTART;TZID=America/New_York:20260123T190000
DTEND;TZID=America/New_York:20260123T220000
DTSTAMP:20260421T142251
CREATED:20251209T153041Z
LAST-MODIFIED:20251209T153041Z
UID:928-1769194800-1769205600@www.1812pianolounge.com
SUMMARY:Shawn Lally
DESCRIPTION:
URL:https://www.1812pianolounge.com/event/shawn-lally-7/
END:VEVENT
BEGIN:VEVENT
DTSTART;TZID=America/New_York:20260123T163000
DTEND;TZID=America/New_York:20260123T183000
DTSTAMP:20260421T142251
CREATED:20251209T153015Z
LAST-MODIFIED:20251209T153015Z
UID:926-1769185800-1769193000@www.1812pianolounge.com
SUMMARY:Melody Cruz
DESCRIPTION:
URL:https://www.1812pianolounge.com/event/melody-cruz/
END:VEVENT
BEGIN:VEVENT
DTSTART;TZID=America/New_York:20260122T170000
DTEND;TZID=America/New_York:20260122T200000
DTSTAMP:20260421T142251
CREATED:20251227T172803Z
LAST-MODIFIED:20251227T172803Z
UID:982-1769101200-1769112000@www.1812pianolounge.com
SUMMARY:Peggy Love
DESCRIPTION:
URL:https://www.1812pianolounge.com/event/peggy-love-17/
END:VEVENT
BEGIN:VEVENT
DTSTART;TZID=America/New_York:20260121T173000
DTEND;TZID=America/New_York:20260121T200000
DTSTAMP:20260421T142251
CREATED:20251227T172736Z
LAST-MODIFIED:20251227T172736Z
UID:980-1769016600-1769025600@www.1812pianolounge.com
SUMMARY:CJ Steinway
DESCRIPTION:
URL:https://www.1812pianolounge.com/event/cj-steinway-4/
END:VEVENT
BEGIN:VEVENT
DTSTART;TZID=America/New_York:20260120T180000
DTEND;TZID=America/New_York:20260120T200000
DTSTAMP:20260421T142251
CREATED:20251209T152939Z
LAST-MODIFIED:20260120T153341Z
UID:924-1768932000-1768939200@www.1812pianolounge.com
SUMMARY:Music Bingo
DESCRIPTION:
URL:https://www.1812pianolounge.com/event/music-trivia-10/
END:VEVENT
BEGIN:VEVENT
DTSTART;TZID=America/New_York:20260119T170000
DTEND;TZID=America/New_York:20260119T200000
DTSTAMP:20260421T142251
CREATED:20260102T150802Z
LAST-MODIFIED:20260102T150802Z
UID:990-1768842000-1768852800@www.1812pianolounge.com
SUMMARY:Vinyl Night with Nick Cerniglia
DESCRIPTION:
URL:https://www.1812pianolounge.com/event/vinyl-night-with-nick-cerniglia/
END:VEVENT
BEGIN:VEVENT
DTSTART;TZID=America/New_York:20260118T103000
DTEND;TZID=America/New_York:20260118T133000
DTSTAMP:20260421T142251
CREATED:20260102T145844Z
LAST-MODIFIED:20260118T203759Z
UID:986-1768732200-1768743000@www.1812pianolounge.com
SUMMARY:**Canceled ** Blues Brunch with Bev Conklin
DESCRIPTION:
URL:https://www.1812pianolounge.com/event/blues-brunch-with-bev-conklin/
END:VEVENT
BEGIN:VEVENT
DTSTART;TZID=America/New_York:20260117T190000
DTEND;TZID=America/New_York:20260117T220000
DTSTAMP:20260421T142251
CREATED:20251227T172627Z
LAST-MODIFIED:20251227T172627Z
UID:978-1768676400-1768687200@www.1812pianolounge.com
SUMMARY:Marisol
DESCRIPTION:
URL:https://www.1812pianolounge.com/event/marisol-3/
END:VEVENT
BEGIN:VEVENT
DTSTART;TZID=America/New_York:20260117T163000
DTEND;TZID=America/New_York:20260117T183000
DTSTAMP:20260421T142251
CREATED:20251227T172552Z
LAST-MODIFIED:20251227T172552Z
UID:976-1768667400-1768674600@www.1812pianolounge.com
SUMMARY:It's a Jazz Vibe
DESCRIPTION:
URL:https://www.1812pianolounge.com/event/its-a-jazz-vibe-3/
END:VEVENT
BEGIN:VEVENT
DTSTART;TZID=America/New_York:20260116T170000
DTEND;TZID=America/New_York:20260116T220000
DTSTAMP:20260421T142251
CREATED:20251209T152852Z
LAST-MODIFIED:20251209T152852Z
UID:922-1768582800-1768600800@www.1812pianolounge.com
SUMMARY:Lis Bockleman
DESCRIPTION:
URL:https://www.1812pianolounge.com/event/lis-bockleman-2/
END:VEVENT
BEGIN:VEVENT
DTSTART;TZID=America/New_York:20260115T170000
DTEND;TZID=America/New_York:20260115T200000
DTSTAMP:20260421T142251
CREATED:20251209T152805Z
LAST-MODIFIED:20260103T170831Z
UID:920-1768496400-1768507200@www.1812pianolounge.com
SUMMARY:Alan Troxell
DESCRIPTION:
URL:https://www.1812pianolounge.com/event/peggy-love-16/
END:VEVENT
BEGIN:VEVENT
DTSTART;TZID=America/New_York:20260114T170000
DTEND;TZID=America/New_York:20260114T200000
DTSTAMP:20260421T142251
CREATED:20251209T152736Z
LAST-MODIFIED:20251209T152736Z
UID:918-1768410000-1768420800@www.1812pianolounge.com
SUMMARY:Brian Kidd
DESCRIPTION:
URL:https://www.1812pianolounge.com/event/brian-kidd-4/
END:VEVENT
BEGIN:VEVENT
DTSTART;TZID=America/New_York:20260113T180000
DTEND;TZID=America/New_York:20260113T200000
DTSTAMP:20260421T142251
CREATED:20251209T152707Z
LAST-MODIFIED:20251227T172519Z
UID:916-1768327200-1768334400@www.1812pianolounge.com
SUMMARY:Music Bingo
DESCRIPTION:
URL:https://www.1812pianolounge.com/event/music-trivia-9/
END:VEVENT
BEGIN:VEVENT
DTSTART;TZID=America/New_York:20260112T170000
DTEND;TZID=America/New_York:20260112T200000
DTSTAMP:20260421T142251
CREATED:20260102T150225Z
LAST-MODIFIED:20260102T150532Z
UID:988-1768237200-1768248000@www.1812pianolounge.com
SUMMARY:Open Mic Night with Tim Harakal
DESCRIPTION:
URL:https://www.1812pianolounge.com/event/open-mic-night-with-tim-harakal/
END:VEVENT
BEGIN:VEVENT
DTSTART;TZID=America/New_York:20260110T190000
DTEND;TZID=America/New_York:20260110T220000
DTSTAMP:20260421T142251
CREATED:20251209T152618Z
LAST-MODIFIED:20260105T203823Z
UID:914-1768071600-1768082400@www.1812pianolounge.com
SUMMARY:Maniya
DESCRIPTION:
URL:https://www.1812pianolounge.com/event/maniya-taylor-gordan/
END:VEVENT
BEGIN:VEVENT
DTSTART;TZID=America/New_York:20260110T160000
DTEND;TZID=America/New_York:20260110T183000
DTSTAMP:20260421T142251
CREATED:20251227T172448Z
LAST-MODIFIED:20251227T172448Z
UID:973-1768060800-1768069800@www.1812pianolounge.com
SUMMARY:Ted Donatelli
DESCRIPTION:
URL:https://www.1812pianolounge.com/event/ted-donatelli-4/
END:VEVENT
BEGIN:VEVENT
DTSTART;TZID=America/New_York:20260109T190000
DTEND;TZID=America/New_York:20260109T220000
DTSTAMP:20260421T142251
CREATED:20251227T172406Z
LAST-MODIFIED:20251227T172406Z
UID:971-1767985200-1767996000@www.1812pianolounge.com
SUMMARY:Courtney & Aiden
DESCRIPTION:
URL:https://www.1812pianolounge.com/event/courtney-aiden-2/
END:VEVENT
BEGIN:VEVENT
DTSTART;TZID=America/New_York:20260109T163000
DTEND;TZID=America/New_York:20260109T183000
DTSTAMP:20260421T142251
CREATED:20260102T194637Z
LAST-MODIFIED:20260102T194637Z
UID:1045-1767976200-1767983400@www.1812pianolounge.com
SUMMARY:Cj Steinway
DESCRIPTION:
URL:https://www.1812pianolounge.com/event/cj-steinway-6/
END:VEVENT
BEGIN:VEVENT
DTSTART;TZID=America/New_York:20260108T170000
DTEND;TZID=America/New_York:20260108T200000
DTSTAMP:20260421T142251
CREATED:20251209T152527Z
LAST-MODIFIED:20251209T153549Z
UID:912-1767891600-1767902400@www.1812pianolounge.com
SUMMARY:Lis Bockelman Piano Karaoke
DESCRIPTION:
URL:https://www.1812pianolounge.com/event/lis-bockelman-3/
END:VEVENT
BEGIN:VEVENT
DTSTART;TZID=America/New_York:20260107T170000
DTEND;TZID=America/New_York:20260107T200000
DTSTAMP:20260421T142251
CREATED:20251209T152446Z
LAST-MODIFIED:20251209T152446Z
UID:910-1767805200-1767816000@www.1812pianolounge.com
SUMMARY:Shawn Lally
DESCRIPTION:
URL:https://www.1812pianolounge.com/event/shawn-lally-6/
END:VEVENT
BEGIN:VEVENT
DTSTART;TZID=America/New_York:20260106T180000
DTEND;TZID=America/New_York:20260106T200000
DTSTAMP:20260421T142251
CREATED:20251209T152417Z
LAST-MODIFIED:20251209T152417Z
UID:908-1767722400-1767729600@www.1812pianolounge.com
SUMMARY:Music Trivia
DESCRIPTION:
URL:https://www.1812pianolounge.com/event/music-trivia-8/
END:VEVENT
BEGIN:VEVENT
DTSTART;VALUE=DATE:20260105
DTEND;VALUE=DATE:20260106
DTSTAMP:20260421T142251
CREATED:20260102T150845Z
LAST-MODIFIED:20260102T150845Z
UID:992-1767571200-1767657599@www.1812pianolounge.com
SUMMARY:Private event
DESCRIPTION:
URL:https://www.1812pianolounge.com/event/private-event-3/
END:VEVENT
BEGIN:VEVENT
DTSTART;TZID=America/New_York:20260103T190000
DTEND;TZID=America/New_York:20260103T220000
DTSTAMP:20260421T142251
CREATED:20251227T172332Z
LAST-MODIFIED:20251227T172332Z
UID:969-1767466800-1767477600@www.1812pianolounge.com
SUMMARY:Tom Costello
DESCRIPTION:
URL:https://www.1812pianolounge.com/event/tom-costello-24/
END:VEVENT
BEGIN:VEVENT
DTSTART;TZID=America/New_York:20260103T163000
DTEND;TZID=America/New_York:20260103T183000
DTSTAMP:20260421T142251
CREATED:20251209T152217Z
LAST-MODIFIED:20251209T152217Z
UID:906-1767457800-1767465000@www.1812pianolounge.com
SUMMARY:Tim Harakel
DESCRIPTION:
URL:https://www.1812pianolounge.com/event/tim-harakel/
END:VEVENT
BEGIN:VEVENT
DTSTART;TZID=America/New_York:20260102T170000
DTEND;TZID=America/New_York:20260102T220000
DTSTAMP:20260421T142251
CREATED:20251209T152130Z
LAST-MODIFIED:20251209T152130Z
UID:904-1767373200-1767391200@www.1812pianolounge.com
SUMMARY:Lis Bockleman
DESCRIPTION:
URL:https://www.1812pianolounge.com/event/lis-bockleman/
END:VEVENT
BEGIN:VEVENT
DTSTART;VALUE=DATE:20260101
DTEND;VALUE=DATE:20260102
DTSTAMP:20260421T142251
CREATED:20251203T133024Z
LAST-MODIFIED:20251203T133024Z
UID:891-1767225600-1767311999@www.1812pianolounge.com
SUMMARY:Closed Happy New Year!
DESCRIPTION:
URL:https://www.1812pianolounge.com/event/closed-happy-new-year/
END:VEVENT
END:VCALENDAR