BEGIN:VCALENDAR
VERSION:2.0
PRODID:-//1812 Piano Lounge - ECPv6.15.20//NONSGML v1.0//EN
CALSCALE:GREGORIAN
METHOD:PUBLISH
X-WR-CALNAME:1812 Piano Lounge
X-ORIGINAL-URL:https://www.1812pianolounge.com
X-WR-CALDESC:Events for 1812 Piano Lounge
REFRESH-INTERVAL;VALUE=DURATION:PT1H
X-Robots-Tag:noindex
X-PUBLISHED-TTL:PT1H
BEGIN:VTIMEZONE
TZID:America/New_York
BEGIN:DAYLIGHT
TZOFFSETFROM:-0500
TZOFFSETTO:-0400
TZNAME:EDT
DTSTART:20250309T070000
END:DAYLIGHT
BEGIN:STANDARD
TZOFFSETFROM:-0400
TZOFFSETTO:-0500
TZNAME:EST
DTSTART:20251102T060000
END:STANDARD
BEGIN:DAYLIGHT
TZOFFSETFROM:-0500
TZOFFSETTO:-0400
TZNAME:EDT
DTSTART:20260308T070000
END:DAYLIGHT
BEGIN:STANDARD
TZOFFSETFROM:-0400
TZOFFSETTO:-0500
TZNAME:EST
DTSTART:20261101T060000
END:STANDARD
BEGIN:DAYLIGHT
TZOFFSETFROM:-0500
TZOFFSETTO:-0400
TZNAME:EDT
DTSTART:20270314T070000
END:DAYLIGHT
BEGIN:STANDARD
TZOFFSETFROM:-0400
TZOFFSETTO:-0500
TZNAME:EST
DTSTART:20271107T060000
END:STANDARD
END:VTIMEZONE
BEGIN:VEVENT
DTSTART;TZID=America/New_York:20260318T170000
DTEND;TZID=America/New_York:20260318T200000
DTSTAMP:20260421T124055
CREATED:20260203T154952Z
LAST-MODIFIED:20260203T155227Z
UID:1144-1773853200-1773864000@www.1812pianolounge.com
SUMMARY:Ted Donatelli
DESCRIPTION:
URL:https://www.1812pianolounge.com/event/ted-donatelli-7/
END:VEVENT
BEGIN:VEVENT
DTSTART;TZID=America/New_York:20260317T170000
DTEND;TZID=America/New_York:20260317T200000
DTSTAMP:20260421T124055
CREATED:20260203T154904Z
LAST-MODIFIED:20260203T154904Z
UID:1142-1773766800-1773777600@www.1812pianolounge.com
SUMMARY:St Patrick's Day with Paterick Kerssen
DESCRIPTION:
URL:https://www.1812pianolounge.com/event/st-patricks-day-with-paterick-kerssen/
END:VEVENT
BEGIN:VEVENT
DTSTART;TZID=America/New_York:20260316T180000
DTEND;TZID=America/New_York:20260316T200000
DTSTAMP:20260421T124055
CREATED:20260203T154704Z
LAST-MODIFIED:20260203T154704Z
UID:1140-1773684000-1773691200@www.1812pianolounge.com
SUMMARY:Vinyl Night with Nick Cerniglia
DESCRIPTION:
URL:https://www.1812pianolounge.com/event/vinyl-night-with-nick-cerniglia-2/
END:VEVENT
BEGIN:VEVENT
DTSTART;TZID=America/New_York:20260314T190000
DTEND;TZID=America/New_York:20260314T220000
DTSTAMP:20260421T124055
CREATED:20260203T154331Z
LAST-MODIFIED:20260205T140730Z
UID:1136-1773514800-1773525600@www.1812pianolounge.com
SUMMARY:Mary Calderin
DESCRIPTION:
URL:https://www.1812pianolounge.com/event/mary-calderin/
END:VEVENT
BEGIN:VEVENT
DTSTART;TZID=America/New_York:20260314T163000
DTEND;TZID=America/New_York:20260314T183000
DTSTAMP:20260421T124055
CREATED:20260203T154437Z
LAST-MODIFIED:20260205T140821Z
UID:1138-1773505800-1773513000@www.1812pianolounge.com
SUMMARY:Lis Bockelman
DESCRIPTION:
URL:https://www.1812pianolounge.com/event/lis-bockelman-6/
END:VEVENT
BEGIN:VEVENT
DTSTART;TZID=America/New_York:20260313T170000
DTEND;TZID=America/New_York:20260313T220000
DTSTAMP:20260421T124055
CREATED:20260203T154248Z
LAST-MODIFIED:20260203T154248Z
UID:1134-1773421200-1773439200@www.1812pianolounge.com
SUMMARY:Lis Bockelman
DESCRIPTION:
URL:https://www.1812pianolounge.com/event/lis-bockelman-5/
END:VEVENT
BEGIN:VEVENT
DTSTART;TZID=America/New_York:20260312T170000
DTEND;TZID=America/New_York:20260312T200000
DTSTAMP:20260421T124055
CREATED:20260203T154217Z
LAST-MODIFIED:20260203T154217Z
UID:1132-1773334800-1773345600@www.1812pianolounge.com
SUMMARY:Michael Sherer
DESCRIPTION:
URL:https://www.1812pianolounge.com/event/michael-sherer-4/
END:VEVENT
BEGIN:VEVENT
DTSTART;TZID=America/New_York:20260311T170000
DTEND;TZID=America/New_York:20260311T200000
DTSTAMP:20260421T124055
CREATED:20260203T154118Z
LAST-MODIFIED:20260203T154118Z
UID:1130-1773248400-1773259200@www.1812pianolounge.com
SUMMARY:Gary Maiatico
DESCRIPTION:
URL:https://www.1812pianolounge.com/event/gary-maiatico-7/
END:VEVENT
BEGIN:VEVENT
DTSTART;TZID=America/New_York:20260310T180000
DTEND;TZID=America/New_York:20260310T200000
DTSTAMP:20260421T124055
CREATED:20260120T153615Z
LAST-MODIFIED:20260120T153615Z
UID:1094-1773165600-1773172800@www.1812pianolounge.com
SUMMARY:Music Bingo
DESCRIPTION:
URL:https://www.1812pianolounge.com/event/music-bingo-8/
END:VEVENT
BEGIN:VEVENT
DTSTART;TZID=America/New_York:20260309T170000
DTEND;TZID=America/New_York:20260309T200000
DTSTAMP:20260421T124055
CREATED:20260203T154048Z
LAST-MODIFIED:20260203T154048Z
UID:1128-1773075600-1773086400@www.1812pianolounge.com
SUMMARY:Open Mic with Tim Harakal
DESCRIPTION:
URL:https://www.1812pianolounge.com/event/open-mic-with-tim-harakal-3/
END:VEVENT
BEGIN:VEVENT
DTSTART;TZID=America/New_York:20260308T103000
DTEND;TZID=America/New_York:20260308T133000
DTSTAMP:20260421T124055
CREATED:20260203T153756Z
LAST-MODIFIED:20260203T153756Z
UID:1126-1772965800-1772976600@www.1812pianolounge.com
SUMMARY:Blues Brunch with Bev Conklin
DESCRIPTION:
URL:https://www.1812pianolounge.com/event/blues-brunch-with-bev-conklin-3/
END:VEVENT
BEGIN:VEVENT
DTSTART;TZID=America/New_York:20260307T190000
DTEND;TZID=America/New_York:20260307T220000
DTSTAMP:20260421T124055
CREATED:20260203T151852Z
LAST-MODIFIED:20260203T151852Z
UID:1122-1772910000-1772920800@www.1812pianolounge.com
SUMMARY:Maniya
DESCRIPTION:
URL:https://www.1812pianolounge.com/event/maniya/
END:VEVENT
BEGIN:VEVENT
DTSTART;TZID=America/New_York:20260307T160000
DTEND;TZID=America/New_York:20260307T183000
DTSTAMP:20260421T124055
CREATED:20260203T151638Z
LAST-MODIFIED:20260203T151803Z
UID:1120-1772899200-1772908200@www.1812pianolounge.com
SUMMARY:Haley Jackson
DESCRIPTION:
URL:https://www.1812pianolounge.com/event/haley-jackson/
END:VEVENT
BEGIN:VEVENT
DTSTART;TZID=America/New_York:20260306T190000
DTEND;TZID=America/New_York:20260306T220000
DTSTAMP:20260421T124055
CREATED:20260203T151454Z
LAST-MODIFIED:20260203T151454Z
UID:1118-1772823600-1772834400@www.1812pianolounge.com
SUMMARY:Courtney & Aidan
DESCRIPTION:
URL:https://www.1812pianolounge.com/event/courtney-aidan/
END:VEVENT
BEGIN:VEVENT
DTSTART;TZID=America/New_York:20260306T160000
DTEND;TZID=America/New_York:20260306T183000
DTSTAMP:20260421T124055
CREATED:20260203T151345Z
LAST-MODIFIED:20260203T151345Z
UID:1116-1772812800-1772821800@www.1812pianolounge.com
SUMMARY:Tom Costello
DESCRIPTION:
URL:https://www.1812pianolounge.com/event/tom-costello-27/
END:VEVENT
BEGIN:VEVENT
DTSTART;TZID=America/New_York:20260305T170000
DTEND;TZID=America/New_York:20260305T200000
DTSTAMP:20260421T124055
CREATED:20260203T151210Z
LAST-MODIFIED:20260203T151210Z
UID:1114-1772730000-1772740800@www.1812pianolounge.com
SUMMARY:A Joe & A Jane
DESCRIPTION:
URL:https://www.1812pianolounge.com/event/a-joe-a-jane/
END:VEVENT
BEGIN:VEVENT
DTSTART;TZID=America/New_York:20260304T170000
DTEND;TZID=America/New_York:20260304T200000
DTSTAMP:20260421T124055
CREATED:20260203T153721Z
LAST-MODIFIED:20260203T153721Z
UID:1124-1772643600-1772654400@www.1812pianolounge.com
SUMMARY:Peggy Love
DESCRIPTION:
URL:https://www.1812pianolounge.com/event/peggy-love-19/
END:VEVENT
BEGIN:VEVENT
DTSTART;TZID=America/New_York:20260303T180000
DTEND;TZID=America/New_York:20260303T200000
DTSTAMP:20260421T124055
CREATED:20260120T153543Z
LAST-MODIFIED:20260120T153543Z
UID:1092-1772560800-1772568000@www.1812pianolounge.com
SUMMARY:Music Trivia
DESCRIPTION:
URL:https://www.1812pianolounge.com/event/music-trivia-14/
END:VEVENT
BEGIN:VEVENT
DTSTART;TZID=America/New_York:20260302T170000
DTEND;TZID=America/New_York:20260302T190000
DTSTAMP:20260421T124055
CREATED:20260118T204908Z
LAST-MODIFIED:20260118T204908Z
UID:1088-1772470800-1772478000@www.1812pianolounge.com
SUMMARY:Vinyls Show & Tell with Nick Cerniglia
DESCRIPTION:
URL:https://www.1812pianolounge.com/event/vinyls-show-tell-with-nick-cerniglia-2/
END:VEVENT
BEGIN:VEVENT
DTSTART;TZID=America/New_York:20260228T190000
DTEND;TZID=America/New_York:20260228T220000
DTSTAMP:20260421T124055
CREATED:20260102T153701Z
LAST-MODIFIED:20260102T153701Z
UID:1039-1772305200-1772316000@www.1812pianolounge.com
SUMMARY:Rachel Hill
DESCRIPTION:
URL:https://www.1812pianolounge.com/event/rachel-hill-4/
END:VEVENT
BEGIN:VEVENT
DTSTART;TZID=America/New_York:20260228T160000
DTEND;TZID=America/New_York:20260228T183000
DTSTAMP:20260421T124055
CREATED:20260102T153633Z
LAST-MODIFIED:20260102T153633Z
UID:1037-1772294400-1772303400@www.1812pianolounge.com
SUMMARY:Ted Donatelli
DESCRIPTION:
URL:https://www.1812pianolounge.com/event/ted-donatelli-6/
END:VEVENT
BEGIN:VEVENT
DTSTART;TZID=America/New_York:20260227T190000
DTEND;TZID=America/New_York:20260227T220000
DTSTAMP:20260421T124055
CREATED:20260118T204151Z
LAST-MODIFIED:20260118T204151Z
UID:1073-1772218800-1772229600@www.1812pianolounge.com
SUMMARY:Devin C
DESCRIPTION:
URL:https://www.1812pianolounge.com/event/devin-c/
END:VEVENT
BEGIN:VEVENT
DTSTART;TZID=America/New_York:20260227T163000
DTEND;TZID=America/New_York:20260227T183000
DTSTAMP:20260421T124055
CREATED:20260118T204107Z
LAST-MODIFIED:20260118T204107Z
UID:1071-1772209800-1772217000@www.1812pianolounge.com
SUMMARY:Tom Costello
DESCRIPTION:
URL:https://www.1812pianolounge.com/event/tom-costello-26/
END:VEVENT
BEGIN:VEVENT
DTSTART;TZID=America/New_York:20260226T170000
DTEND;TZID=America/New_York:20260226T200000
DTSTAMP:20260421T124055
CREATED:20260118T204038Z
LAST-MODIFIED:20260118T204038Z
UID:1069-1772125200-1772136000@www.1812pianolounge.com
SUMMARY:Peggy Love
DESCRIPTION:
URL:https://www.1812pianolounge.com/event/peggy-love-18/
END:VEVENT
BEGIN:VEVENT
DTSTART;TZID=America/New_York:20260225T170000
DTEND;TZID=America/New_York:20260225T200000
DTSTAMP:20260421T124055
CREATED:20260102T153600Z
LAST-MODIFIED:20260102T153600Z
UID:1035-1772038800-1772049600@www.1812pianolounge.com
SUMMARY:Scott Marshall
DESCRIPTION:
URL:https://www.1812pianolounge.com/event/scott-marshall/
END:VEVENT
BEGIN:VEVENT
DTSTART;TZID=America/New_York:20260224T180000
DTEND;TZID=America/New_York:20260224T200000
DTSTAMP:20260421T124055
CREATED:20260102T153050Z
LAST-MODIFIED:20260102T153050Z
UID:1023-1771956000-1771963200@www.1812pianolounge.com
SUMMARY:Music Bingo
DESCRIPTION:
URL:https://www.1812pianolounge.com/event/music-bingo-7/
END:VEVENT
BEGIN:VEVENT
DTSTART;TZID=America/New_York:20260223T170000
DTEND;TZID=America/New_York:20260223T200000
DTSTAMP:20260421T124055
CREATED:20260118T204720Z
LAST-MODIFIED:20260118T204720Z
UID:1086-1771866000-1771876800@www.1812pianolounge.com
SUMMARY:Open Mic with Tim Harakal
DESCRIPTION:
URL:https://www.1812pianolounge.com/event/open-mic-with-tim-harakal-2/
END:VEVENT
BEGIN:VEVENT
DTSTART;VALUE=DATE:20260222
DTEND;VALUE=DATE:20260223
DTSTAMP:20260421T124055
CREATED:20260118T204226Z
LAST-MODIFIED:20260118T204226Z
UID:1075-1771718400-1771804799@www.1812pianolounge.com
SUMMARY:** Private Event **
DESCRIPTION:
URL:https://www.1812pianolounge.com/event/private-event-4/
END:VEVENT
BEGIN:VEVENT
DTSTART;TZID=America/New_York:20260221T190000
DTEND;TZID=America/New_York:20260221T220000
DTSTAMP:20260421T124055
CREATED:20260102T153444Z
LAST-MODIFIED:20260105T203903Z
UID:1033-1771700400-1771711200@www.1812pianolounge.com
SUMMARY:Pete Fluck & Jim Meyer
DESCRIPTION:
URL:https://www.1812pianolounge.com/event/pete-fluk-jim-meyers/
END:VEVENT
BEGIN:VEVENT
DTSTART;TZID=America/New_York:20260221T160000
DTEND;TZID=America/New_York:20260221T183000
DTSTAMP:20260421T124055
CREATED:20260102T153359Z
LAST-MODIFIED:20260102T153359Z
UID:1031-1771689600-1771698600@www.1812pianolounge.com
SUMMARY:Gary Maiatico
DESCRIPTION:
URL:https://www.1812pianolounge.com/event/gary-maiatico-6/
END:VEVENT
END:VCALENDAR