BEGIN:VCALENDAR
VERSION:2.0
PRODID:-//1812 Piano Lounge - ECPv6.15.20//NONSGML v1.0//EN
CALSCALE:GREGORIAN
METHOD:PUBLISH
X-WR-CALNAME:1812 Piano Lounge
X-ORIGINAL-URL:https://www.1812pianolounge.com
X-WR-CALDESC:Events for 1812 Piano Lounge
REFRESH-INTERVAL;VALUE=DURATION:PT1H
X-Robots-Tag:noindex
X-PUBLISHED-TTL:PT1H
BEGIN:VTIMEZONE
TZID:America/New_York
BEGIN:DAYLIGHT
TZOFFSETFROM:-0500
TZOFFSETTO:-0400
TZNAME:EDT
DTSTART:20250309T070000
END:DAYLIGHT
BEGIN:STANDARD
TZOFFSETFROM:-0400
TZOFFSETTO:-0500
TZNAME:EST
DTSTART:20251102T060000
END:STANDARD
BEGIN:DAYLIGHT
TZOFFSETFROM:-0500
TZOFFSETTO:-0400
TZNAME:EDT
DTSTART:20260308T070000
END:DAYLIGHT
BEGIN:STANDARD
TZOFFSETFROM:-0400
TZOFFSETTO:-0500
TZNAME:EST
DTSTART:20261101T060000
END:STANDARD
BEGIN:DAYLIGHT
TZOFFSETFROM:-0500
TZOFFSETTO:-0400
TZNAME:EDT
DTSTART:20270314T070000
END:DAYLIGHT
BEGIN:STANDARD
TZOFFSETFROM:-0400
TZOFFSETTO:-0500
TZNAME:EST
DTSTART:20271107T060000
END:STANDARD
END:VTIMEZONE
BEGIN:VEVENT
DTSTART;TZID=America/New_York:20260218T170000
DTEND;TZID=America/New_York:20260218T200000
DTSTAMP:20260421T112249
CREATED:20260102T153134Z
LAST-MODIFIED:20260102T153134Z
UID:1025-1771434000-1771444800@www.1812pianolounge.com
SUMMARY:Brian Kidd
DESCRIPTION:
URL:https://www.1812pianolounge.com/event/brian-kidd-6/
END:VEVENT
BEGIN:VEVENT
DTSTART;TZID=America/New_York:20260217T170000
DTEND;TZID=America/New_York:20260217T200000
DTSTAMP:20260421T112249
CREATED:20260102T153014Z
LAST-MODIFIED:20260211T125710Z
UID:1021-1771347600-1771358400@www.1812pianolounge.com
SUMMARY:Mardi Gras Party with Paterick Kerssen
DESCRIPTION:
URL:https://www.1812pianolounge.com/event/music-trivia-13/
END:VEVENT
BEGIN:VEVENT
DTSTART;TZID=America/New_York:20260216T170000
DTEND;TZID=America/New_York:20260216T190000
DTSTAMP:20260421T112249
CREATED:20260118T204643Z
LAST-MODIFIED:20260118T204643Z
UID:1083-1771261200-1771268400@www.1812pianolounge.com
SUMMARY:Vinyls Show & Tell with Nick Cerniglia
DESCRIPTION:
URL:https://www.1812pianolounge.com/event/vinyls-show-tell-with-nick-cerniglia/
END:VEVENT
BEGIN:VEVENT
DTSTART;TZID=America/New_York:20260215T130000
DTEND;TZID=America/New_York:20260215T170000
DTSTAMP:20260421T112249
CREATED:20260102T152256Z
LAST-MODIFIED:20260102T152256Z
UID:1014-1771160400-1771174800@www.1812pianolounge.com
SUMMARY:Lehigh Valley Medium Mathew Kamont
DESCRIPTION:
URL:https://www.1812pianolounge.com/event/lehigh-valley-medium-mathew-kamont/
END:VEVENT
BEGIN:VEVENT
DTSTART;TZID=America/New_York:20260214T180000
DTEND;TZID=America/New_York:20260214T210000
DTSTAMP:20260421T112249
CREATED:20260102T152041Z
LAST-MODIFIED:20260102T194835Z
UID:1012-1771092000-1771102800@www.1812pianolounge.com
SUMMARY:Elvis Night with Benjamin Dalske
DESCRIPTION:
URL:https://www.1812pianolounge.com/event/elvis-night/
END:VEVENT
BEGIN:VEVENT
DTSTART;TZID=America/New_York:20260214T160000
DTEND;TZID=America/New_York:20260214T180000
DTSTAMP:20260421T112249
CREATED:20260102T194759Z
LAST-MODIFIED:20260102T194759Z
UID:1047-1771084800-1771092000@www.1812pianolounge.com
SUMMARY:Tom Costello
DESCRIPTION:
URL:https://www.1812pianolounge.com/event/tom-costello-25/
END:VEVENT
BEGIN:VEVENT
DTSTART;TZID=America/New_York:20260213T170000
DTEND;TZID=America/New_York:20260213T220000
DTSTAMP:20260421T112249
CREATED:20260102T151854Z
LAST-MODIFIED:20260102T151854Z
UID:1010-1771002000-1771020000@www.1812pianolounge.com
SUMMARY:CJ Steinway
DESCRIPTION:
URL:https://www.1812pianolounge.com/event/cj-steinway-5/
END:VEVENT
BEGIN:VEVENT
DTSTART;TZID=America/New_York:20260212T170000
DTEND;TZID=America/New_York:20260212T200000
DTSTAMP:20260421T112249
CREATED:20260102T151757Z
LAST-MODIFIED:20260102T151757Z
UID:1008-1770915600-1770926400@www.1812pianolounge.com
SUMMARY:Michael Sherer
DESCRIPTION:
URL:https://www.1812pianolounge.com/event/michael-sherer-3/
END:VEVENT
BEGIN:VEVENT
DTSTART;TZID=America/New_York:20260211T170000
DTEND;TZID=America/New_York:20260211T200000
DTSTAMP:20260421T112249
CREATED:20260102T151512Z
LAST-MODIFIED:20260102T151512Z
UID:1006-1770829200-1770840000@www.1812pianolounge.com
SUMMARY:Ted Donatelli
DESCRIPTION:
URL:https://www.1812pianolounge.com/event/ted-donatelli-5/
END:VEVENT
BEGIN:VEVENT
DTSTART;TZID=America/New_York:20260210T180000
DTEND;TZID=America/New_York:20260210T200000
DTSTAMP:20260421T112249
CREATED:20260102T152951Z
LAST-MODIFIED:20260102T152951Z
UID:1019-1770746400-1770753600@www.1812pianolounge.com
SUMMARY:Music Bingo
DESCRIPTION:
URL:https://www.1812pianolounge.com/event/music-bingo-6/
END:VEVENT
BEGIN:VEVENT
DTSTART;TZID=America/New_York:20260209T170000
DTEND;TZID=America/New_York:20260209T200000
DTSTAMP:20260421T112249
CREATED:20260118T204535Z
LAST-MODIFIED:20260118T204535Z
UID:1081-1770656400-1770667200@www.1812pianolounge.com
SUMMARY:Open Mic with Tim Harakal
DESCRIPTION:
URL:https://www.1812pianolounge.com/event/open-mic-with-tim-harakal/
END:VEVENT
BEGIN:VEVENT
DTSTART;TZID=America/New_York:20260207T190000
DTEND;TZID=America/New_York:20260207T220000
DTSTAMP:20260421T112249
CREATED:20260102T151422Z
LAST-MODIFIED:20260102T151422Z
UID:1004-1770490800-1770501600@www.1812pianolounge.com
SUMMARY:It's a Jazz Vibe
DESCRIPTION:
URL:https://www.1812pianolounge.com/event/its-a-jazz-vibe-4/
END:VEVENT
BEGIN:VEVENT
DTSTART;TZID=America/New_York:20260207T160000
DTEND;TZID=America/New_York:20260207T183000
DTSTAMP:20260421T112249
CREATED:20260102T151355Z
LAST-MODIFIED:20260102T151355Z
UID:1002-1770480000-1770489000@www.1812pianolounge.com
SUMMARY:Marisol
DESCRIPTION:
URL:https://www.1812pianolounge.com/event/marisol-4/
END:VEVENT
BEGIN:VEVENT
DTSTART;TZID=America/New_York:20260206T190000
DTEND;TZID=America/New_York:20260206T220000
DTSTAMP:20260421T112249
CREATED:20260102T151238Z
LAST-MODIFIED:20260102T151238Z
UID:1000-1770404400-1770415200@www.1812pianolounge.com
SUMMARY:Shawn Lally
DESCRIPTION:
URL:https://www.1812pianolounge.com/event/shawn-lally-9/
END:VEVENT
BEGIN:VEVENT
DTSTART;TZID=America/New_York:20260206T160000
DTEND;TZID=America/New_York:20260206T183000
DTSTAMP:20260421T112249
CREATED:20260102T151217Z
LAST-MODIFIED:20260102T151217Z
UID:998-1770393600-1770402600@www.1812pianolounge.com
SUMMARY:Alan Troxel
DESCRIPTION:
URL:https://www.1812pianolounge.com/event/alan-troxel/
END:VEVENT
BEGIN:VEVENT
DTSTART;TZID=America/New_York:20260205T170000
DTEND;TZID=America/New_York:20260205T200000
DTSTAMP:20260421T112249
CREATED:20260102T151051Z
LAST-MODIFIED:20260102T151051Z
UID:996-1770310800-1770321600@www.1812pianolounge.com
SUMMARY:Dueling Pianos with Lis Bockelman & Alex Wash
DESCRIPTION:
URL:https://www.1812pianolounge.com/event/dueling-pianos-with-lis-bockelman-alex-wash/
END:VEVENT
BEGIN:VEVENT
DTSTART;TZID=America/New_York:20260204T170000
DTEND;TZID=America/New_York:20260204T190000
DTSTAMP:20260421T112249
CREATED:20260102T150956Z
LAST-MODIFIED:20260102T150956Z
UID:994-1770224400-1770231600@www.1812pianolounge.com
SUMMARY:Pride Music Bingo
DESCRIPTION:
URL:https://www.1812pianolounge.com/event/pride-music-bingo/
END:VEVENT
BEGIN:VEVENT
DTSTART;TZID=America/New_York:20260203T180000
DTEND;TZID=America/New_York:20260203T200000
DTSTAMP:20260421T112249
CREATED:20260102T152929Z
LAST-MODIFIED:20260102T152929Z
UID:1017-1770141600-1770148800@www.1812pianolounge.com
SUMMARY:Music Trivia
DESCRIPTION:
URL:https://www.1812pianolounge.com/event/music-trivia-12/
END:VEVENT
BEGIN:VEVENT
DTSTART;TZID=America/New_York:20260202T180000
DTEND;TZID=America/New_York:20260202T200000
DTSTAMP:20260421T112249
CREATED:20260118T204448Z
LAST-MODIFIED:20260118T204448Z
UID:1079-1770055200-1770062400@www.1812pianolounge.com
SUMMARY:Vinyls Show & Tell: Nick Cerniglia
DESCRIPTION:
URL:https://www.1812pianolounge.com/event/vinyls-show-tell-nick-cerniglia/
END:VEVENT
BEGIN:VEVENT
DTSTART;TZID=America/New_York:20260131T190000
DTEND;TZID=America/New_York:20260131T220000
DTSTAMP:20260421T112249
CREATED:20251209T153350Z
LAST-MODIFIED:20251209T153427Z
UID:938-1769886000-1769896800@www.1812pianolounge.com
SUMMARY:Brian Kidd
DESCRIPTION:
URL:https://www.1812pianolounge.com/event/brian-kidd-5/
END:VEVENT
BEGIN:VEVENT
DTSTART;TZID=America/New_York:20260131T160000
DTEND;TZID=America/New_York:20260131T183000
DTSTAMP:20260421T112249
CREATED:20251227T172830Z
LAST-MODIFIED:20251227T172830Z
UID:984-1769875200-1769884200@www.1812pianolounge.com
SUMMARY:Hannah Noel
DESCRIPTION:
URL:https://www.1812pianolounge.com/event/hannah-noel/
END:VEVENT
BEGIN:VEVENT
DTSTART;TZID=America/New_York:20260130T170000
DTEND;TZID=America/New_York:20260130T220000
DTSTAMP:20260421T112249
CREATED:20251209T153327Z
LAST-MODIFIED:20251209T153327Z
UID:936-1769792400-1769810400@www.1812pianolounge.com
SUMMARY:Lis Bockelman
DESCRIPTION:
URL:https://www.1812pianolounge.com/event/lis-bockelman-4/
END:VEVENT
BEGIN:VEVENT
DTSTART;TZID=America/New_York:20260129T170000
DTEND;TZID=America/New_York:20260129T200000
DTSTAMP:20260421T112249
CREATED:20251209T153252Z
LAST-MODIFIED:20251209T153252Z
UID:934-1769706000-1769716800@www.1812pianolounge.com
SUMMARY:Shawn Lally
DESCRIPTION:
URL:https://www.1812pianolounge.com/event/shawn-lally-8/
END:VEVENT
BEGIN:VEVENT
DTSTART;TZID=America/New_York:20260128T170000
DTEND;TZID=America/New_York:20260128T200000
DTSTAMP:20260421T112249
CREATED:20260102T194534Z
LAST-MODIFIED:20260102T194534Z
UID:1043-1769619600-1769630400@www.1812pianolounge.com
SUMMARY:Scott Marshall
DESCRIPTION:
URL:https://www.1812pianolounge.com/event/scott-marshall-2/
END:VEVENT
BEGIN:VEVENT
DTSTART;TZID=America/New_York:20260127T180000
DTEND;TZID=America/New_York:20260127T200000
DTSTAMP:20260421T112249
CREATED:20251209T153215Z
LAST-MODIFIED:20260102T152424Z
UID:932-1769536800-1769544000@www.1812pianolounge.com
SUMMARY:Music Bingo
DESCRIPTION:
URL:https://www.1812pianolounge.com/event/music-trivia-11/
END:VEVENT
BEGIN:VEVENT
DTSTART;TZID=America/New_York:20260126T170000
DTEND;TZID=America/New_York:20260126T200000
DTSTAMP:20260421T112249
CREATED:20260102T194441Z
LAST-MODIFIED:20260102T194441Z
UID:1041-1769446800-1769457600@www.1812pianolounge.com
SUMMARY:Open Mic Night with Tim Harakal
DESCRIPTION:
URL:https://www.1812pianolounge.com/event/open-mic-night-with-tim-harakal-2/
END:VEVENT
BEGIN:VEVENT
DTSTART;TZID=America/New_York:20260125T103000
DTEND;TZID=America/New_York:20260125T133000
DTSTAMP:20260421T112249
CREATED:20260118T203836Z
LAST-MODIFIED:20260118T203836Z
UID:1067-1769337000-1769347800@www.1812pianolounge.com
SUMMARY:Blues Brunch with Bev Conklin
DESCRIPTION:
URL:https://www.1812pianolounge.com/event/blues-brunch-with-bev-conklin-2/
END:VEVENT
BEGIN:VEVENT
DTSTART;TZID=America/New_York:20260124T170000
DTEND;TZID=America/New_York:20260124T220000
DTSTAMP:20260421T112249
CREATED:20251209T153120Z
LAST-MODIFIED:20251209T153120Z
UID:930-1769274000-1769292000@www.1812pianolounge.com
SUMMARY:Lis Bockleman
DESCRIPTION:
URL:https://www.1812pianolounge.com/event/lis-bockleman-3/
END:VEVENT
BEGIN:VEVENT
DTSTART;TZID=America/New_York:20260123T190000
DTEND;TZID=America/New_York:20260123T220000
DTSTAMP:20260421T112249
CREATED:20251209T153041Z
LAST-MODIFIED:20251209T153041Z
UID:928-1769194800-1769205600@www.1812pianolounge.com
SUMMARY:Shawn Lally
DESCRIPTION:
URL:https://www.1812pianolounge.com/event/shawn-lally-7/
END:VEVENT
BEGIN:VEVENT
DTSTART;TZID=America/New_York:20260123T163000
DTEND;TZID=America/New_York:20260123T183000
DTSTAMP:20260421T112249
CREATED:20251209T153015Z
LAST-MODIFIED:20251209T153015Z
UID:926-1769185800-1769193000@www.1812pianolounge.com
SUMMARY:Melody Cruz
DESCRIPTION:
URL:https://www.1812pianolounge.com/event/melody-cruz/
END:VEVENT
END:VCALENDAR