BEGIN:VCALENDAR
VERSION:2.0
PRODID:-//1812 Piano Lounge - ECPv6.15.20//NONSGML v1.0//EN
CALSCALE:GREGORIAN
METHOD:PUBLISH
X-WR-CALNAME:1812 Piano Lounge
X-ORIGINAL-URL:https://www.1812pianolounge.com
X-WR-CALDESC:Events for 1812 Piano Lounge
REFRESH-INTERVAL;VALUE=DURATION:PT1H
X-Robots-Tag:noindex
X-PUBLISHED-TTL:PT1H
BEGIN:VTIMEZONE
TZID:America/New_York
BEGIN:DAYLIGHT
TZOFFSETFROM:-0500
TZOFFSETTO:-0400
TZNAME:EDT
DTSTART:20250309T070000
END:DAYLIGHT
BEGIN:STANDARD
TZOFFSETFROM:-0400
TZOFFSETTO:-0500
TZNAME:EST
DTSTART:20251102T060000
END:STANDARD
BEGIN:DAYLIGHT
TZOFFSETFROM:-0500
TZOFFSETTO:-0400
TZNAME:EDT
DTSTART:20260308T070000
END:DAYLIGHT
BEGIN:STANDARD
TZOFFSETFROM:-0400
TZOFFSETTO:-0500
TZNAME:EST
DTSTART:20261101T060000
END:STANDARD
BEGIN:DAYLIGHT
TZOFFSETFROM:-0500
TZOFFSETTO:-0400
TZNAME:EDT
DTSTART:20270314T070000
END:DAYLIGHT
BEGIN:STANDARD
TZOFFSETFROM:-0400
TZOFFSETTO:-0500
TZNAME:EST
DTSTART:20271107T060000
END:STANDARD
END:VTIMEZONE
BEGIN:VEVENT
DTSTART;TZID=America/New_York:20260522T170000
DTEND;TZID=America/New_York:20260522T220000
DTSTAMP:20260421T120932
CREATED:20260330T144912Z
LAST-MODIFIED:20260330T144912Z
UID:1351-1779469200-1779487200@www.1812pianolounge.com
SUMMARY:Lis Bockelman
DESCRIPTION:
URL:https://www.1812pianolounge.com/event/lis-bockelman-10/
END:VEVENT
BEGIN:VEVENT
DTSTART;TZID=America/New_York:20260523T163000
DTEND;TZID=America/New_York:20260523T183000
DTSTAMP:20260421T120932
CREATED:20260330T145007Z
LAST-MODIFIED:20260409T174333Z
UID:1353-1779553800-1779561000@www.1812pianolounge.com
SUMMARY:Dolcetto
DESCRIPTION:
URL:https://www.1812pianolounge.com/event/dolcetto/
END:VEVENT
BEGIN:VEVENT
DTSTART;TZID=America/New_York:20260523T190000
DTEND;TZID=America/New_York:20260523T220000
DTSTAMP:20260421T120932
CREATED:20260330T145038Z
LAST-MODIFIED:20260330T145038Z
UID:1355-1779562800-1779573600@www.1812pianolounge.com
SUMMARY:Courtney & Aiden
DESCRIPTION:
URL:https://www.1812pianolounge.com/event/courtney-aiden-5/
END:VEVENT
BEGIN:VEVENT
DTSTART;VALUE=DATE:20260525
DTEND;VALUE=DATE:20260526
DTSTAMP:20260421T120932
CREATED:20260330T145127Z
LAST-MODIFIED:20260330T145127Z
UID:1357-1779667200-1779753599@www.1812pianolounge.com
SUMMARY:Memorial Day ** Closed
DESCRIPTION:
URL:https://www.1812pianolounge.com/event/memorial-day-closed/
END:VEVENT
BEGIN:VEVENT
DTSTART;TZID=America/New_York:20260526T160000
DTEND;TZID=America/New_York:20260526T180000
DTSTAMP:20260421T120932
CREATED:20260420T160342Z
LAST-MODIFIED:20260420T160342Z
UID:1414-1779811200-1779818400@www.1812pianolounge.com
SUMMARY:Happy Hour with Tom Costello
DESCRIPTION:
URL:https://www.1812pianolounge.com/event/happy-hour-with-tom-costello-7/
END:VEVENT
BEGIN:VEVENT
DTSTART;TZID=America/New_York:20260526T180000
DTEND;TZID=America/New_York:20260526T200000
DTSTAMP:20260421T120932
CREATED:20260330T145210Z
LAST-MODIFIED:20260330T145210Z
UID:1359-1779818400-1779825600@www.1812pianolounge.com
SUMMARY:Music Bingo
DESCRIPTION:
URL:https://www.1812pianolounge.com/event/music-bingo-14/
END:VEVENT
BEGIN:VEVENT
DTSTART;TZID=America/New_York:20260527T170000
DTEND;TZID=America/New_York:20260527T200000
DTSTAMP:20260421T120932
CREATED:20260409T175327Z
LAST-MODIFIED:20260409T175327Z
UID:1391-1779901200-1779912000@www.1812pianolounge.com
SUMMARY:Sam Ransom
DESCRIPTION:
URL:https://www.1812pianolounge.com/event/sam-ransom/
END:VEVENT
BEGIN:VEVENT
DTSTART;TZID=America/New_York:20260528T170000
DTEND;TZID=America/New_York:20260528T200000
DTSTAMP:20260421T120932
CREATED:20260330T145236Z
LAST-MODIFIED:20260330T145236Z
UID:1361-1779987600-1779998400@www.1812pianolounge.com
SUMMARY:Michael Sherer
DESCRIPTION:
URL:https://www.1812pianolounge.com/event/michael-sherer-5/
END:VEVENT
BEGIN:VEVENT
DTSTART;TZID=America/New_York:20260529T163000
DTEND;TZID=America/New_York:20260529T183000
DTSTAMP:20260421T120932
CREATED:20260409T175513Z
LAST-MODIFIED:20260409T175513Z
UID:1393-1780072200-1780079400@www.1812pianolounge.com
SUMMARY:John Cannavo
DESCRIPTION:
URL:https://www.1812pianolounge.com/event/john-cannavo-4/
END:VEVENT
BEGIN:VEVENT
DTSTART;TZID=America/New_York:20260529T190000
DTEND;TZID=America/New_York:20260529T220000
DTSTAMP:20260421T120932
CREATED:20260330T145303Z
LAST-MODIFIED:20260330T145303Z
UID:1363-1780081200-1780092000@www.1812pianolounge.com
SUMMARY:Tom Costello
DESCRIPTION:
URL:https://www.1812pianolounge.com/event/tom-costello-33/
END:VEVENT
BEGIN:VEVENT
DTSTART;TZID=America/New_York:20260530T163000
DTEND;TZID=America/New_York:20260530T183000
DTSTAMP:20260421T120932
CREATED:20260330T145338Z
LAST-MODIFIED:20260330T145338Z
UID:1365-1780158600-1780165800@www.1812pianolounge.com
SUMMARY:Brian Kidd
DESCRIPTION:
URL:https://www.1812pianolounge.com/event/brian-kidd-9/
END:VEVENT
BEGIN:VEVENT
DTSTART;TZID=America/New_York:20260530T190000
DTEND;TZID=America/New_York:20260530T220000
DTSTAMP:20260421T120932
CREATED:20260330T145407Z
LAST-MODIFIED:20260330T145407Z
UID:1367-1780167600-1780178400@www.1812pianolounge.com
SUMMARY:CJ Steinway
DESCRIPTION:
URL:https://www.1812pianolounge.com/event/cj-steinway-11/
END:VEVENT
END:VCALENDAR