BEGIN:VCALENDAR
VERSION:2.0
PRODID:-//1812 Piano Lounge - ECPv6.15.20//NONSGML v1.0//EN
CALSCALE:GREGORIAN
METHOD:PUBLISH
X-ORIGINAL-URL:https://www.1812pianolounge.com
X-WR-CALDESC:Events for 1812 Piano Lounge
REFRESH-INTERVAL;VALUE=DURATION:PT1H
X-Robots-Tag:noindex
X-PUBLISHED-TTL:PT1H
BEGIN:VTIMEZONE
TZID:America/New_York
BEGIN:DAYLIGHT
TZOFFSETFROM:-0500
TZOFFSETTO:-0400
TZNAME:EDT
DTSTART:20250309T070000
END:DAYLIGHT
BEGIN:STANDARD
TZOFFSETFROM:-0400
TZOFFSETTO:-0500
TZNAME:EST
DTSTART:20251102T060000
END:STANDARD
BEGIN:DAYLIGHT
TZOFFSETFROM:-0500
TZOFFSETTO:-0400
TZNAME:EDT
DTSTART:20260308T070000
END:DAYLIGHT
BEGIN:STANDARD
TZOFFSETFROM:-0400
TZOFFSETTO:-0500
TZNAME:EST
DTSTART:20261101T060000
END:STANDARD
BEGIN:DAYLIGHT
TZOFFSETFROM:-0500
TZOFFSETTO:-0400
TZNAME:EDT
DTSTART:20270314T070000
END:DAYLIGHT
BEGIN:STANDARD
TZOFFSETFROM:-0400
TZOFFSETTO:-0500
TZNAME:EST
DTSTART:20271107T060000
END:STANDARD
END:VTIMEZONE
BEGIN:VEVENT
DTSTART;TZID=America/New_York:20260423T170000
DTEND;TZID=America/New_York:20260423T200000
DTSTAMP:20260421T074914
CREATED:20260316T160859Z
LAST-MODIFIED:20260316T160859Z
UID:1267-1776963600-1776974400@www.1812pianolounge.com
SUMMARY:Marisol
DESCRIPTION:
URL:https://www.1812pianolounge.com/event/marisol-7/
END:VEVENT
BEGIN:VEVENT
DTSTART;TZID=America/New_York:20260424T163000
DTEND;TZID=America/New_York:20260424T183000
DTSTAMP:20260421T074914
CREATED:20260316T161100Z
LAST-MODIFIED:20260414T150901Z
UID:1269-1777048200-1777055400@www.1812pianolounge.com
SUMMARY:Rue Vega
DESCRIPTION:
URL:https://www.1812pianolounge.com/event/rue/
END:VEVENT
BEGIN:VEVENT
DTSTART;TZID=America/New_York:20260424T190000
DTEND;TZID=America/New_York:20260424T220000
DTSTAMP:20260421T074914
CREATED:20260316T161304Z
LAST-MODIFIED:20260316T161304Z
UID:1271-1777057200-1777068000@www.1812pianolounge.com
SUMMARY:Kerrie & Pete
DESCRIPTION:
URL:https://www.1812pianolounge.com/event/kerrie-pete-4/
END:VEVENT
BEGIN:VEVENT
DTSTART;TZID=America/New_York:20260425T170000
DTEND;TZID=America/New_York:20260425T220000
DTSTAMP:20260421T074914
CREATED:20260330T143607Z
LAST-MODIFIED:20260330T143607Z
UID:1315-1777136400-1777154400@www.1812pianolounge.com
SUMMARY:Tom Costello with Arianna
DESCRIPTION:
URL:https://www.1812pianolounge.com/event/tom-costello-with-arianna/
END:VEVENT
BEGIN:VEVENT
DTSTART;TZID=America/New_York:20260427T170000
DTEND;TZID=America/New_York:20260427T210000
DTSTAMP:20260421T074914
CREATED:20260203T164247Z
LAST-MODIFIED:20260325T190650Z
UID:1170-1777309200-1777323600@www.1812pianolounge.com
SUMMARY:Wine Dinner with Tom Costello
DESCRIPTION:Join us for a 5-course wine pairing dinner! $100.00 per person includes tax and gratuity. Call for reservations 484-274-6208. \nIst Course \nCured salmon crudo. fennel. fennel frond oil\, roe \n-Tonnino Costa Del Pero Grillo. Sicily \n2nd Course \nPotato gnocchi\, pistachio\, guanciale\, lemon\, egg yolk \n~ Montalbera Fuori Catalogo Piemonte Rosso. Italy \n3rd Course \nCabbage salad. Napa cabbage. bok choy. radicchio. crispy malanga. curry vinaigrette \n~ Angels & Cowboys Rose. Sonoma \n4th Course \nShort rib. celery root puree\, caramelized carrot. black garlic demi glace. gremolata\, pickled shallot \n-BR Cohn Cabernet Sauvignon Sonoma \nDessert \nBlack sesame tart\, black sesame curd\, sesame brittle. \nganache. vanilla bean ice cream \n~Bodega 50l Pedro Ximenez Sherry
URL:https://www.1812pianolounge.com/event/wine-pariing-dinner/
END:VEVENT
BEGIN:VEVENT
DTSTART;TZID=America/New_York:20260428T160000
DTEND;TZID=America/New_York:20260428T180000
DTSTAMP:20260421T074914
CREATED:20260420T160141Z
LAST-MODIFIED:20260420T160141Z
UID:1406-1777392000-1777399200@www.1812pianolounge.com
SUMMARY:Happy Hour with Tom Costello
DESCRIPTION:
URL:https://www.1812pianolounge.com/event/happy-hour-with-tom-costello-3/
END:VEVENT
BEGIN:VEVENT
DTSTART;TZID=America/New_York:20260428T180000
DTEND;TZID=America/New_York:20260428T200000
DTSTAMP:20260421T074914
CREATED:20260324T200621Z
LAST-MODIFIED:20260324T200621Z
UID:1295-1777399200-1777406400@www.1812pianolounge.com
SUMMARY:Music Bingo
DESCRIPTION:
URL:https://www.1812pianolounge.com/event/music-bingo-12/
END:VEVENT
BEGIN:VEVENT
DTSTART;TZID=America/New_York:20260429T170000
DTEND;TZID=America/New_York:20260429T200000
DTSTAMP:20260421T074914
CREATED:20260316T161528Z
LAST-MODIFIED:20260316T161528Z
UID:1275-1777482000-1777492800@www.1812pianolounge.com
SUMMARY:Gary Maiatico
DESCRIPTION:
URL:https://www.1812pianolounge.com/event/gary-maiatico-9/
END:VEVENT
BEGIN:VEVENT
DTSTART;TZID=America/New_York:20260430T170000
DTEND;TZID=America/New_York:20260430T200000
DTSTAMP:20260421T074914
CREATED:20260316T161438Z
LAST-MODIFIED:20260316T161438Z
UID:1273-1777568400-1777579200@www.1812pianolounge.com
SUMMARY:Lis Bockelman
DESCRIPTION:
URL:https://www.1812pianolounge.com/event/lis-bockelman-8/
END:VEVENT
BEGIN:VEVENT
DTSTART;TZID=America/New_York:20260501T163000
DTEND;TZID=America/New_York:20260501T183000
DTSTAMP:20260421T074914
CREATED:20260409T175255Z
LAST-MODIFIED:20260420T155530Z
UID:1389-1777653000-1777660200@www.1812pianolounge.com
SUMMARY:Michelle & Paul
DESCRIPTION:
URL:https://www.1812pianolounge.com/event/michelle-paul/
END:VEVENT
BEGIN:VEVENT
DTSTART;TZID=America/New_York:20260501T190000
DTEND;TZID=America/New_York:20260501T220000
DTSTAMP:20260421T074914
CREATED:20260330T143714Z
LAST-MODIFIED:20260420T155831Z
UID:1317-1777662000-1777672800@www.1812pianolounge.com
SUMMARY:BC Trio with Bev Conklin
DESCRIPTION:
URL:https://www.1812pianolounge.com/event/scott-marshall-3/
END:VEVENT
BEGIN:VEVENT
DTSTART;TZID=America/New_York:20260502T160000
DTEND;TZID=America/New_York:20260502T183000
DTSTAMP:20260421T074914
CREATED:20260330T143734Z
LAST-MODIFIED:20260330T143734Z
UID:1319-1777737600-1777746600@www.1812pianolounge.com
SUMMARY:Steve Broskey
DESCRIPTION:
URL:https://www.1812pianolounge.com/event/steve-broskey/
END:VEVENT
BEGIN:VEVENT
DTSTART;TZID=America/New_York:20260502T190000
DTEND;TZID=America/New_York:20260502T220000
DTSTAMP:20260421T074914
CREATED:20260330T143802Z
LAST-MODIFIED:20260330T143802Z
UID:1321-1777748400-1777759200@www.1812pianolounge.com
SUMMARY:Cj Steinway
DESCRIPTION:
URL:https://www.1812pianolounge.com/event/cj-steinway-9/
END:VEVENT
BEGIN:VEVENT
DTSTART;TZID=America/New_York:20260505T160000
DTEND;TZID=America/New_York:20260505T180000
DTSTAMP:20260421T074914
CREATED:20260420T160207Z
LAST-MODIFIED:20260420T160207Z
UID:1408-1777996800-1778004000@www.1812pianolounge.com
SUMMARY:Happy Hour with Tom Costello
DESCRIPTION:
URL:https://www.1812pianolounge.com/event/happy-hour-with-tom-costello-4/
END:VEVENT
BEGIN:VEVENT
DTSTART;TZID=America/New_York:20260505T180000
DTEND;TZID=America/New_York:20260505T200000
DTSTAMP:20260421T074914
CREATED:20260330T143843Z
LAST-MODIFIED:20260330T143843Z
UID:1323-1778004000-1778011200@www.1812pianolounge.com
SUMMARY:Music Trivia
DESCRIPTION:
URL:https://www.1812pianolounge.com/event/music-trivia-16/
END:VEVENT
BEGIN:VEVENT
DTSTART;TZID=America/New_York:20260506T170000
DTEND;TZID=America/New_York:20260506T200000
DTSTAMP:20260421T074914
CREATED:20260330T143920Z
LAST-MODIFIED:20260330T143920Z
UID:1325-1778086800-1778097600@www.1812pianolounge.com
SUMMARY:Stevie Vicks
DESCRIPTION:
URL:https://www.1812pianolounge.com/event/stevie-vicks/
END:VEVENT
BEGIN:VEVENT
DTSTART;TZID=America/New_York:20260507T170000
DTEND;TZID=America/New_York:20260507T200000
DTSTAMP:20260421T074914
CREATED:20260330T144026Z
LAST-MODIFIED:20260330T144026Z
UID:1327-1778173200-1778184000@www.1812pianolounge.com
SUMMARY:Allen Troxell
DESCRIPTION:
URL:https://www.1812pianolounge.com/event/allen-troxell/
END:VEVENT
BEGIN:VEVENT
DTSTART;TZID=America/New_York:20260508T163000
DTEND;TZID=America/New_York:20260508T183000
DTSTAMP:20260421T074914
CREATED:20260330T144120Z
LAST-MODIFIED:20260330T144120Z
UID:1329-1778257800-1778265000@www.1812pianolounge.com
SUMMARY:A Joe & A Jane
DESCRIPTION:
URL:https://www.1812pianolounge.com/event/a-joe-a-jane-2/
END:VEVENT
BEGIN:VEVENT
DTSTART;TZID=America/New_York:20260508T190000
DTEND;TZID=America/New_York:20260508T220000
DTSTAMP:20260421T074914
CREATED:20260330T144205Z
LAST-MODIFIED:20260330T144205Z
UID:1331-1778266800-1778277600@www.1812pianolounge.com
SUMMARY:Courtney & Aidain
DESCRIPTION:
URL:https://www.1812pianolounge.com/event/courtney-aidain/
END:VEVENT
BEGIN:VEVENT
DTSTART;TZID=America/New_York:20260509T163000
DTEND;TZID=America/New_York:20260509T183000
DTSTAMP:20260421T074914
CREATED:20260330T144242Z
LAST-MODIFIED:20260330T144242Z
UID:1333-1778344200-1778351400@www.1812pianolounge.com
SUMMARY:Tom Costello
DESCRIPTION:
URL:https://www.1812pianolounge.com/event/tom-costello-31/
END:VEVENT
BEGIN:VEVENT
DTSTART;TZID=America/New_York:20260509T190000
DTEND;TZID=America/New_York:20260509T220000
DTSTAMP:20260421T074914
CREATED:20260330T144308Z
LAST-MODIFIED:20260330T144308Z
UID:1335-1778353200-1778364000@www.1812pianolounge.com
SUMMARY:Lis Bockelman
DESCRIPTION:
URL:https://www.1812pianolounge.com/event/lis-bockelman-9/
END:VEVENT
BEGIN:VEVENT
DTSTART;TZID=America/New_York:20260512T160000
DTEND;TZID=America/New_York:20260512T180000
DTSTAMP:20260421T074914
CREATED:20260420T160234Z
LAST-MODIFIED:20260420T160234Z
UID:1410-1778601600-1778608800@www.1812pianolounge.com
SUMMARY:Happy Hour with Tom Costello
DESCRIPTION:
URL:https://www.1812pianolounge.com/event/happy-hour-with-tom-costello-5/
END:VEVENT
BEGIN:VEVENT
DTSTART;TZID=America/New_York:20260512T170000
DTEND;TZID=America/New_York:20260512T190000
DTSTAMP:20260421T074914
CREATED:20260409T175726Z
LAST-MODIFIED:20260409T175726Z
UID:1397-1778605200-1778612400@www.1812pianolounge.com
SUMMARY:Style Magazine Happy Hour with Tom Costello
DESCRIPTION:
URL:https://www.1812pianolounge.com/event/style-magazine-happy-hour-with-tom-costello/
END:VEVENT
BEGIN:VEVENT
DTSTART;TZID=America/New_York:20260513T170000
DTEND;TZID=America/New_York:20260513T200000
DTSTAMP:20260421T074914
CREATED:20260330T144446Z
LAST-MODIFIED:20260330T144446Z
UID:1337-1778691600-1778702400@www.1812pianolounge.com
SUMMARY:Tom Costello
DESCRIPTION:
URL:https://www.1812pianolounge.com/event/tom-costello-32/
END:VEVENT
BEGIN:VEVENT
DTSTART;TZID=America/New_York:20260514T170000
DTEND;TZID=America/New_York:20260514T200000
DTSTAMP:20260421T074914
CREATED:20260330T144522Z
LAST-MODIFIED:20260330T144522Z
UID:1339-1778778000-1778788800@www.1812pianolounge.com
SUMMARY:Ted Donatelli
DESCRIPTION:
URL:https://www.1812pianolounge.com/event/ted-donatelli-9/
END:VEVENT
BEGIN:VEVENT
DTSTART;TZID=America/New_York:20260515T163000
DTEND;TZID=America/New_York:20260515T183000
DTSTAMP:20260421T074914
CREATED:20260330T144543Z
LAST-MODIFIED:20260330T144543Z
UID:1341-1778862600-1778869800@www.1812pianolounge.com
SUMMARY:Rachel Hill
DESCRIPTION:
URL:https://www.1812pianolounge.com/event/rachel-hill-6/
END:VEVENT
BEGIN:VEVENT
DTSTART;TZID=America/New_York:20260515T190000
DTEND;TZID=America/New_York:20260515T220000
DTSTAMP:20260421T074914
CREATED:20260409T175547Z
LAST-MODIFIED:20260409T175547Z
UID:1395-1778871600-1778882400@www.1812pianolounge.com
SUMMARY:It's a Jazz Vibe
DESCRIPTION:
URL:https://www.1812pianolounge.com/event/its-a-jazz-vibe-5/
END:VEVENT
BEGIN:VEVENT
DTSTART;TZID=America/New_York:20260516T160000
DTEND;TZID=America/New_York:20260516T183000
DTSTAMP:20260421T074914
CREATED:20260330T144615Z
LAST-MODIFIED:20260330T144615Z
UID:1343-1778947200-1778956200@www.1812pianolounge.com
SUMMARY:CJ Steinway
DESCRIPTION:
URL:https://www.1812pianolounge.com/event/cj-steinway-10/
END:VEVENT
BEGIN:VEVENT
DTSTART;TZID=America/New_York:20260516T190000
DTEND;TZID=America/New_York:20260516T220000
DTSTAMP:20260421T074914
CREATED:20260330T144637Z
LAST-MODIFIED:20260330T144637Z
UID:1345-1778958000-1778968800@www.1812pianolounge.com
SUMMARY:Maniya
DESCRIPTION:
URL:https://www.1812pianolounge.com/event/maniya-3/
END:VEVENT
BEGIN:VEVENT
DTSTART;TZID=America/New_York:20260519T160000
DTEND;TZID=America/New_York:20260519T180000
DTSTAMP:20260421T074914
CREATED:20260420T160311Z
LAST-MODIFIED:20260420T160311Z
UID:1412-1779206400-1779213600@www.1812pianolounge.com
SUMMARY:Happy Hour with Tom Costello
DESCRIPTION:
URL:https://www.1812pianolounge.com/event/happy-hour-with-tom-costello-6/
END:VEVENT
END:VCALENDAR