BEGIN:VCALENDAR
VERSION:2.0
PRODID:-//1812 Piano Lounge - ECPv6.15.20//NONSGML v1.0//EN
CALSCALE:GREGORIAN
METHOD:PUBLISH
X-WR-CALNAME:1812 Piano Lounge
X-ORIGINAL-URL:https://www.1812pianolounge.com
X-WR-CALDESC:Events for 1812 Piano Lounge
REFRESH-INTERVAL;VALUE=DURATION:PT1H
X-Robots-Tag:noindex
X-PUBLISHED-TTL:PT1H
BEGIN:VTIMEZONE
TZID:America/New_York
BEGIN:DAYLIGHT
TZOFFSETFROM:-0500
TZOFFSETTO:-0400
TZNAME:EDT
DTSTART:20240310T070000
END:DAYLIGHT
BEGIN:STANDARD
TZOFFSETFROM:-0400
TZOFFSETTO:-0500
TZNAME:EST
DTSTART:20241103T060000
END:STANDARD
BEGIN:DAYLIGHT
TZOFFSETFROM:-0500
TZOFFSETTO:-0400
TZNAME:EDT
DTSTART:20250309T070000
END:DAYLIGHT
BEGIN:STANDARD
TZOFFSETFROM:-0400
TZOFFSETTO:-0500
TZNAME:EST
DTSTART:20251102T060000
END:STANDARD
BEGIN:DAYLIGHT
TZOFFSETFROM:-0500
TZOFFSETTO:-0400
TZNAME:EDT
DTSTART:20260308T070000
END:DAYLIGHT
BEGIN:STANDARD
TZOFFSETFROM:-0400
TZOFFSETTO:-0500
TZNAME:EST
DTSTART:20261101T060000
END:STANDARD
END:VTIMEZONE
BEGIN:VEVENT
DTSTART;TZID=America/New_York:20250723T170000
DTEND;TZID=America/New_York:20250723T200000
DTSTAMP:20260422T180141
CREATED:20250708T152502Z
LAST-MODIFIED:20250708T152502Z
UID:451-1753290000-1753300800@www.1812pianolounge.com
SUMMARY:GT3 Jazz Trio
DESCRIPTION:
URL:https://www.1812pianolounge.com/event/gt3-jazz-trio-2/
END:VEVENT
BEGIN:VEVENT
DTSTART;TZID=America/New_York:20250722T170000
DTEND;TZID=America/New_York:20250722T200000
DTSTAMP:20260422T180141
CREATED:20250708T152337Z
LAST-MODIFIED:20250708T152337Z
UID:448-1753203600-1753214400@www.1812pianolounge.com
SUMMARY:Peggy Love
DESCRIPTION:
URL:https://www.1812pianolounge.com/event/peggy-love-4/
END:VEVENT
BEGIN:VEVENT
DTSTART;TZID=America/New_York:20250719T170000
DTEND;TZID=America/New_York:20250719T220000
DTSTAMP:20260422T180141
CREATED:20250708T152241Z
LAST-MODIFIED:20250715T165229Z
UID:446-1752944400-1752962400@www.1812pianolounge.com
SUMMARY:Devin
DESCRIPTION:
URL:https://www.1812pianolounge.com/event/devin/
END:VEVENT
BEGIN:VEVENT
DTSTART;TZID=America/New_York:20250718T200000
DTEND;TZID=America/New_York:20250718T230000
DTSTAMP:20260422T180141
CREATED:20250708T151732Z
LAST-MODIFIED:20250708T151732Z
UID:444-1752868800-1752879600@www.1812pianolounge.com
SUMMARY:Alex Wash
DESCRIPTION:
URL:https://www.1812pianolounge.com/event/alex-wash-2/
END:VEVENT
BEGIN:VEVENT
DTSTART;TZID=America/New_York:20250717T170000
DTEND;TZID=America/New_York:20250717T200000
DTSTAMP:20260422T180141
CREATED:20250708T151647Z
LAST-MODIFIED:20250715T150605Z
UID:442-1752771600-1752782400@www.1812pianolounge.com
SUMMARY:Alex Wash
DESCRIPTION:
URL:https://www.1812pianolounge.com/event/alex-wash/
END:VEVENT
BEGIN:VEVENT
DTSTART;TZID=America/New_York:20250716T170000
DTEND;TZID=America/New_York:20250716T200000
DTSTAMP:20260422T180141
CREATED:20250708T151610Z
LAST-MODIFIED:20250708T151610Z
UID:440-1752685200-1752696000@www.1812pianolounge.com
SUMMARY:Jake Casella
DESCRIPTION:
URL:https://www.1812pianolounge.com/event/jake-casella/
END:VEVENT
BEGIN:VEVENT
DTSTART;TZID=America/New_York:20250715T170000
DTEND;TZID=America/New_York:20250715T200000
DTSTAMP:20260422T180141
CREATED:20250708T151537Z
LAST-MODIFIED:20250708T151537Z
UID:438-1752598800-1752609600@www.1812pianolounge.com
SUMMARY:Tom Costello
DESCRIPTION:
URL:https://www.1812pianolounge.com/event/tom-costello-2/
END:VEVENT
BEGIN:VEVENT
DTSTART;TZID=America/New_York:20250712T170000
DTEND;TZID=America/New_York:20250712T220000
DTSTAMP:20260422T180141
CREATED:20250708T151355Z
LAST-MODIFIED:20250708T151423Z
UID:434-1752339600-1752357600@www.1812pianolounge.com
SUMMARY:Tom Costello
DESCRIPTION:
URL:https://www.1812pianolounge.com/event/tom-costello/
END:VEVENT
BEGIN:VEVENT
DTSTART;TZID=America/New_York:20250711T170000
DTEND;TZID=America/New_York:20250711T200000
DTSTAMP:20260422T180141
CREATED:20250708T151311Z
LAST-MODIFIED:20250708T151311Z
UID:432-1752253200-1752264000@www.1812pianolounge.com
SUMMARY:Peggy Love
DESCRIPTION:
URL:https://www.1812pianolounge.com/event/peggy-love-3/
END:VEVENT
BEGIN:VEVENT
DTSTART;TZID=America/New_York:20250710T170000
DTEND;TZID=America/New_York:20250710T200000
DTSTAMP:20260422T180141
CREATED:20250708T151230Z
LAST-MODIFIED:20250708T151230Z
UID:430-1752166800-1752177600@www.1812pianolounge.com
SUMMARY:Shaun Lally
DESCRIPTION:
URL:https://www.1812pianolounge.com/event/shaun-lally/
END:VEVENT
BEGIN:VEVENT
DTSTART;TZID=America/New_York:20250709T170000
DTEND;TZID=America/New_York:20250709T200000
DTSTAMP:20260422T180141
CREATED:20250708T151157Z
LAST-MODIFIED:20250708T151157Z
UID:428-1752080400-1752091200@www.1812pianolounge.com
SUMMARY:GT3 Jazz Trio
DESCRIPTION:
URL:https://www.1812pianolounge.com/event/gt3-jazz-trio/
END:VEVENT
BEGIN:VEVENT
DTSTART;TZID=America/New_York:20250708T170000
DTEND;TZID=America/New_York:20250708T200000
DTSTAMP:20260422T180141
CREATED:20250708T151056Z
LAST-MODIFIED:20250708T151056Z
UID:426-1751994000-1752004800@www.1812pianolounge.com
SUMMARY:Peggy Love
DESCRIPTION:
URL:https://www.1812pianolounge.com/event/peggy-love-2/
END:VEVENT
BEGIN:VEVENT
DTSTART;VALUE=DATE:20250705
DTEND;VALUE=DATE:20250706
DTSTAMP:20260422T180141
CREATED:20250708T151501Z
LAST-MODIFIED:20250708T151501Z
UID:436-1751673600-1751759999@www.1812pianolounge.com
SUMMARY:CLOSED
DESCRIPTION:
URL:https://www.1812pianolounge.com/event/closed-2/
END:VEVENT
BEGIN:VEVENT
DTSTART;VALUE=DATE:20250704
DTEND;VALUE=DATE:20250705
DTSTAMP:20260422T180141
CREATED:20250619T001641Z
LAST-MODIFIED:20250619T001641Z
UID:252-1751587200-1751673599@www.1812pianolounge.com
SUMMARY:CLOSED
DESCRIPTION:
URL:https://www.1812pianolounge.com/event/closed/
END:VEVENT
BEGIN:VEVENT
DTSTART;TZID=America/New_York:20250703T180000
DTEND;TZID=America/New_York:20250703T210000
DTSTAMP:20260422T180141
CREATED:20250619T001624Z
LAST-MODIFIED:20250619T001624Z
UID:250-1751565600-1751576400@www.1812pianolounge.com
SUMMARY:Shawn L
DESCRIPTION:
URL:https://www.1812pianolounge.com/event/shawn-l/
END:VEVENT
BEGIN:VEVENT
DTSTART;TZID=America/New_York:20250702T180000
DTEND;TZID=America/New_York:20250702T210000
DTSTAMP:20260422T180141
CREATED:20250619T001550Z
LAST-MODIFIED:20250619T001550Z
UID:248-1751479200-1751490000@www.1812pianolounge.com
SUMMARY:Peggy Love
DESCRIPTION:
URL:https://www.1812pianolounge.com/event/peggy-love/
END:VEVENT
BEGIN:VEVENT
DTSTART;TZID=America/New_York:20250701T163000
DTEND;TZID=America/New_York:20250701T193000
DTSTAMP:20260422T180141
CREATED:20250619T001516Z
LAST-MODIFIED:20250619T001516Z
UID:246-1751387400-1751398200@www.1812pianolounge.com
SUMMARY:Alex
DESCRIPTION:
URL:https://www.1812pianolounge.com/event/alex/
END:VEVENT
BEGIN:VEVENT
DTSTART;TZID=America/New_York:20250628T200000
DTEND;TZID=America/New_York:20250628T230000
DTSTAMP:20260422T180141
CREATED:20250619T001438Z
LAST-MODIFIED:20250624T193126Z
UID:244-1751140800-1751151600@www.1812pianolounge.com
SUMMARY:Matt & Kate
DESCRIPTION:
URL:https://www.1812pianolounge.com/event/matt-kate-2/
END:VEVENT
BEGIN:VEVENT
DTSTART;TZID=America/New_York:20250628T163000
DTEND;TZID=America/New_York:20250628T193000
DTSTAMP:20260422T180141
CREATED:20250619T001335Z
LAST-MODIFIED:20250624T193224Z
UID:241-1751128200-1751139000@www.1812pianolounge.com
SUMMARY:Devon
DESCRIPTION:
URL:https://www.1812pianolounge.com/event/matt-kate/
END:VEVENT
BEGIN:VEVENT
DTSTART;TZID=America/New_York:20250627T200000
DTEND;TZID=America/New_York:20250627T230000
DTSTAMP:20260422T180141
CREATED:20250619T001256Z
LAST-MODIFIED:20250619T001256Z
UID:239-1751054400-1751065200@www.1812pianolounge.com
SUMMARY:Mary & Joe
DESCRIPTION:
URL:https://www.1812pianolounge.com/event/mary-joe/
END:VEVENT
BEGIN:VEVENT
DTSTART;TZID=America/New_York:20250627T163000
DTEND;TZID=America/New_York:20250627T193000
DTSTAMP:20260422T180141
CREATED:20250619T001221Z
LAST-MODIFIED:20250619T001221Z
UID:237-1751041800-1751052600@www.1812pianolounge.com
SUMMARY:Tom C
DESCRIPTION:
URL:https://www.1812pianolounge.com/event/tom-c/
END:VEVENT
BEGIN:VEVENT
DTSTART;TZID=America/New_York:20250626T170000
DTEND;TZID=America/New_York:20250626T200000
DTSTAMP:20260422T180141
CREATED:20250529T172948Z
LAST-MODIFIED:20250619T001124Z
UID:160-1750957200-1750968000@www.1812pianolounge.com
SUMMARY:Grand Opening - Featuring Anna Maze
DESCRIPTION:
URL:https://www.1812pianolounge.com/event/grand-opening-featuring-anna-m/
END:VEVENT
END:VCALENDAR