BEGIN:VCALENDAR
VERSION:2.0
PRODID:-//1812 Piano Lounge - ECPv6.15.20//NONSGML v1.0//EN
CALSCALE:GREGORIAN
METHOD:PUBLISH
X-WR-CALNAME:1812 Piano Lounge
X-ORIGINAL-URL:https://www.1812pianolounge.com
X-WR-CALDESC:Events for 1812 Piano Lounge
REFRESH-INTERVAL;VALUE=DURATION:PT1H
X-Robots-Tag:noindex
X-PUBLISHED-TTL:PT1H
BEGIN:VTIMEZONE
TZID:America/New_York
BEGIN:DAYLIGHT
TZOFFSETFROM:-0500
TZOFFSETTO:-0400
TZNAME:EDT
DTSTART:20240310T070000
END:DAYLIGHT
BEGIN:STANDARD
TZOFFSETFROM:-0400
TZOFFSETTO:-0500
TZNAME:EST
DTSTART:20241103T060000
END:STANDARD
BEGIN:DAYLIGHT
TZOFFSETFROM:-0500
TZOFFSETTO:-0400
TZNAME:EDT
DTSTART:20250309T070000
END:DAYLIGHT
BEGIN:STANDARD
TZOFFSETFROM:-0400
TZOFFSETTO:-0500
TZNAME:EST
DTSTART:20251102T060000
END:STANDARD
BEGIN:DAYLIGHT
TZOFFSETFROM:-0500
TZOFFSETTO:-0400
TZNAME:EDT
DTSTART:20260308T070000
END:DAYLIGHT
BEGIN:STANDARD
TZOFFSETFROM:-0400
TZOFFSETTO:-0500
TZNAME:EST
DTSTART:20261101T060000
END:STANDARD
END:VTIMEZONE
BEGIN:VEVENT
DTSTART;TZID=America/New_York:20251108T160000
DTEND;TZID=America/New_York:20251108T180000
DTSTAMP:20260422T062559
CREATED:20251015T164638Z
LAST-MODIFIED:20251015T164638Z
UID:753-1762617600-1762624800@www.1812pianolounge.com
SUMMARY:Music Bingo
DESCRIPTION:
URL:https://www.1812pianolounge.com/event/music-bingo-3/
END:VEVENT
BEGIN:VEVENT
DTSTART;TZID=America/New_York:20251107T190000
DTEND;TZID=America/New_York:20251107T220000
DTSTAMP:20260422T062559
CREATED:20251015T164600Z
LAST-MODIFIED:20251015T164600Z
UID:751-1762542000-1762552800@www.1812pianolounge.com
SUMMARY:Michelle Miller
DESCRIPTION:
URL:https://www.1812pianolounge.com/event/michelle-miller/
END:VEVENT
BEGIN:VEVENT
DTSTART;TZID=America/New_York:20251107T160000
DTEND;TZID=America/New_York:20251107T183000
DTSTAMP:20260422T062559
CREATED:20251021T155259Z
LAST-MODIFIED:20251021T155259Z
UID:807-1762531200-1762540200@www.1812pianolounge.com
SUMMARY:Tom Costello
DESCRIPTION:
URL:https://www.1812pianolounge.com/event/tom-costello-17/
END:VEVENT
BEGIN:VEVENT
DTSTART;TZID=America/New_York:20251106T170000
DTEND;TZID=America/New_York:20251106T200000
DTSTAMP:20260422T062559
CREATED:20251015T164528Z
LAST-MODIFIED:20251015T164528Z
UID:749-1762448400-1762459200@www.1812pianolounge.com
SUMMARY:Peggy Love
DESCRIPTION:
URL:https://www.1812pianolounge.com/event/peggy-love-11/
END:VEVENT
BEGIN:VEVENT
DTSTART;TZID=America/New_York:20251105T170000
DTEND;TZID=America/New_York:20251105T200000
DTSTAMP:20260422T062559
CREATED:20251015T164500Z
LAST-MODIFIED:20251015T164500Z
UID:747-1762362000-1762372800@www.1812pianolounge.com
SUMMARY:Lis Bockelman
DESCRIPTION:
URL:https://www.1812pianolounge.com/event/lis-bockelman-2/
END:VEVENT
BEGIN:VEVENT
DTSTART;TZID=America/New_York:20251104T170000
DTEND;TZID=America/New_York:20251104T200000
DTSTAMP:20260422T062559
CREATED:20251015T164418Z
LAST-MODIFIED:20251015T164418Z
UID:745-1762275600-1762286400@www.1812pianolounge.com
SUMMARY:Patrick K
DESCRIPTION:
URL:https://www.1812pianolounge.com/event/patrick-k-2/
END:VEVENT
BEGIN:VEVENT
DTSTART;TZID=America/New_York:20251102T103000
DTEND;TZID=America/New_York:20251102T133000
DTSTAMP:20260422T062559
CREATED:20251027T153502Z
LAST-MODIFIED:20251027T153502Z
UID:812-1762079400-1762090200@www.1812pianolounge.com
SUMMARY:Tom Costello
DESCRIPTION:
URL:https://www.1812pianolounge.com/event/tom-costello-19/
END:VEVENT
BEGIN:VEVENT
DTSTART;TZID=America/New_York:20251102T100000
DTEND;TZID=America/New_York:20251102T140000
DTSTAMP:20260422T062559
CREATED:20251007T195329Z
LAST-MODIFIED:20251007T195329Z
UID:716-1762077600-1762092000@www.1812pianolounge.com
SUMMARY:Brunch
DESCRIPTION:
URL:https://www.1812pianolounge.com/event/brunch-2/
END:VEVENT
BEGIN:VEVENT
DTSTART;TZID=America/New_York:20251101T160000
DTEND;TZID=America/New_York:20251101T220000
DTSTAMP:20260422T062559
CREATED:20251015T164244Z
LAST-MODIFIED:20251015T164244Z
UID:743-1762012800-1762034400@www.1812pianolounge.com
SUMMARY:Lis Bockelman
DESCRIPTION:
URL:https://www.1812pianolounge.com/event/lis-bockelman/
END:VEVENT
BEGIN:VEVENT
DTSTART;TZID=America/New_York:20251031T180000
DTEND;TZID=America/New_York:20251031T220000
DTSTAMP:20260422T062559
CREATED:20250929T134559Z
LAST-MODIFIED:20251021T155033Z
UID:687-1761933600-1761948000@www.1812pianolounge.com
SUMMARY:Halloween Party with Shawn Lally
DESCRIPTION:
URL:https://www.1812pianolounge.com/event/halloween-party-with-shawn-lally/
END:VEVENT
BEGIN:VEVENT
DTSTART;TZID=America/New_York:20251030T170000
DTEND;TZID=America/New_York:20251030T200000
DTSTAMP:20260422T062559
CREATED:20250917T124417Z
LAST-MODIFIED:20250917T124417Z
UID:664-1761843600-1761854400@www.1812pianolounge.com
SUMMARY:Ted Donatelli
DESCRIPTION:
URL:https://www.1812pianolounge.com/event/ted-donatelli/
END:VEVENT
BEGIN:VEVENT
DTSTART;TZID=America/New_York:20251029T170000
DTEND;TZID=America/New_York:20251029T200000
DTSTAMP:20260422T062559
CREATED:20250917T124349Z
LAST-MODIFIED:20250917T124349Z
UID:662-1761757200-1761768000@www.1812pianolounge.com
SUMMARY:Shawn Lally
DESCRIPTION:
URL:https://www.1812pianolounge.com/event/shawn-lally-3/
END:VEVENT
BEGIN:VEVENT
DTSTART;TZID=America/New_York:20251028T170000
DTEND;TZID=America/New_York:20251028T200000
DTSTAMP:20260422T062559
CREATED:20251015T232351Z
LAST-MODIFIED:20251015T232400Z
UID:797-1761670800-1761681600@www.1812pianolounge.com
SUMMARY:John Cannavo
DESCRIPTION:
URL:https://www.1812pianolounge.com/event/john-cannavo-2/
END:VEVENT
BEGIN:VEVENT
DTSTART;TZID=America/New_York:20251025T190000
DTEND;TZID=America/New_York:20251025T220000
DTSTAMP:20260422T062559
CREATED:20250917T124327Z
LAST-MODIFIED:20251014T143437Z
UID:660-1761418800-1761429600@www.1812pianolounge.com
SUMMARY:Tom Costello & Ariana Carre
DESCRIPTION:
URL:https://www.1812pianolounge.com/event/tom-costello-guest/
END:VEVENT
BEGIN:VEVENT
DTSTART;TZID=America/New_York:20251025T160000
DTEND;TZID=America/New_York:20251025T183000
DTSTAMP:20260422T062559
CREATED:20250917T124254Z
LAST-MODIFIED:20250917T124254Z
UID:658-1761408000-1761417000@www.1812pianolounge.com
SUMMARY:Shawn Lally
DESCRIPTION:
URL:https://www.1812pianolounge.com/event/shawn-lally-2/
END:VEVENT
BEGIN:VEVENT
DTSTART;TZID=America/New_York:20251024T190000
DTEND;TZID=America/New_York:20251024T220000
DTSTAMP:20260422T062559
CREATED:20250917T124229Z
LAST-MODIFIED:20250917T124229Z
UID:656-1761332400-1761343200@www.1812pianolounge.com
SUMMARY:Kerrie & Pete
DESCRIPTION:
URL:https://www.1812pianolounge.com/event/kerrie-pete/
END:VEVENT
BEGIN:VEVENT
DTSTART;TZID=America/New_York:20251024T160000
DTEND;TZID=America/New_York:20251024T183000
DTSTAMP:20260422T062559
CREATED:20251021T155127Z
LAST-MODIFIED:20251021T155127Z
UID:805-1761321600-1761330600@www.1812pianolounge.com
SUMMARY:Patrick K Trio
DESCRIPTION:
URL:https://www.1812pianolounge.com/event/patrick-k-trio/
END:VEVENT
BEGIN:VEVENT
DTSTART;TZID=America/New_York:20251023T170000
DTEND;TZID=America/New_York:20251023T200000
DTSTAMP:20260422T062559
CREATED:20250917T124158Z
LAST-MODIFIED:20250917T124158Z
UID:654-1761238800-1761249600@www.1812pianolounge.com
SUMMARY:Jake Casella
DESCRIPTION:
URL:https://www.1812pianolounge.com/event/jake-casella-12/
END:VEVENT
BEGIN:VEVENT
DTSTART;TZID=America/New_York:20251022T170000
DTEND;TZID=America/New_York:20251022T200000
DTSTAMP:20260422T062559
CREATED:20250917T124130Z
LAST-MODIFIED:20250917T124130Z
UID:652-1761152400-1761163200@www.1812pianolounge.com
SUMMARY:Alex Wash
DESCRIPTION:
URL:https://www.1812pianolounge.com/event/alex-wash-7/
END:VEVENT
BEGIN:VEVENT
DTSTART;TZID=America/New_York:20251021T180000
DTEND;TZID=America/New_York:20251021T200000
DTSTAMP:20260422T062559
CREATED:20251015T232506Z
LAST-MODIFIED:20251015T232506Z
UID:799-1761069600-1761076800@www.1812pianolounge.com
SUMMARY:Music Trivia
DESCRIPTION:
URL:https://www.1812pianolounge.com/event/music-trivia-3/
END:VEVENT
BEGIN:VEVENT
DTSTART;TZID=America/New_York:20251019T103000
DTEND;TZID=America/New_York:20251019T133000
DTSTAMP:20260422T062559
CREATED:20251014T143722Z
LAST-MODIFIED:20251014T143722Z
UID:741-1760869800-1760880600@www.1812pianolounge.com
SUMMARY:Tom Costello
DESCRIPTION:
URL:https://www.1812pianolounge.com/event/tom-costello-16/
END:VEVENT
BEGIN:VEVENT
DTSTART;TZID=America/New_York:20251019T100000
DTEND;TZID=America/New_York:20251019T140000
DTSTAMP:20260422T062559
CREATED:20251007T195215Z
LAST-MODIFIED:20251007T195240Z
UID:714-1760868000-1760882400@www.1812pianolounge.com
SUMMARY:Brunch
DESCRIPTION:
URL:https://www.1812pianolounge.com/event/brunch/
END:VEVENT
BEGIN:VEVENT
DTSTART;TZID=America/New_York:20251018T160000
DTEND;TZID=America/New_York:20251018T230000
DTSTAMP:20260422T062559
CREATED:20250917T124615Z
LAST-MODIFIED:20250917T124615Z
UID:666-1760803200-1760828400@www.1812pianolounge.com
SUMMARY:Closed - Private Event
DESCRIPTION:
URL:https://www.1812pianolounge.com/event/closed-private-event-2/
END:VEVENT
BEGIN:VEVENT
DTSTART;TZID=America/New_York:20251017T190000
DTEND;TZID=America/New_York:20251017T220000
DTSTAMP:20260422T062559
CREATED:20250917T124054Z
LAST-MODIFIED:20250917T124054Z
UID:650-1760727600-1760738400@www.1812pianolounge.com
SUMMARY:Matt & Kate
DESCRIPTION:
URL:https://www.1812pianolounge.com/event/matt-kate-3/
END:VEVENT
BEGIN:VEVENT
DTSTART;TZID=America/New_York:20251017T160000
DTEND;TZID=America/New_York:20251017T183000
DTSTAMP:20260422T062559
CREATED:20251014T143241Z
LAST-MODIFIED:20251014T143241Z
UID:737-1760716800-1760725800@www.1812pianolounge.com
SUMMARY:Tom Costello
DESCRIPTION:
URL:https://www.1812pianolounge.com/event/tom-costello-15/
END:VEVENT
BEGIN:VEVENT
DTSTART;TZID=America/New_York:20251016T170000
DTEND;TZID=America/New_York:20251016T200000
DTSTAMP:20260422T062559
CREATED:20250917T124019Z
LAST-MODIFIED:20250917T124019Z
UID:648-1760634000-1760644800@www.1812pianolounge.com
SUMMARY:Shawn Lally
DESCRIPTION:
URL:https://www.1812pianolounge.com/event/shawn-lally/
END:VEVENT
BEGIN:VEVENT
DTSTART;TZID=America/New_York:20251015T170000
DTEND;TZID=America/New_York:20251015T200000
DTSTAMP:20260422T062559
CREATED:20250917T123952Z
LAST-MODIFIED:20250917T123952Z
UID:646-1760547600-1760558400@www.1812pianolounge.com
SUMMARY:Jake Casella
DESCRIPTION:
URL:https://www.1812pianolounge.com/event/jake-casella-11/
END:VEVENT
BEGIN:VEVENT
DTSTART;TZID=America/New_York:20251014T170000
DTEND;TZID=America/New_York:20251014T200000
DTSTAMP:20260422T062559
CREATED:20250929T134436Z
LAST-MODIFIED:20250929T134436Z
UID:685-1760461200-1760472000@www.1812pianolounge.com
SUMMARY:Oktoberfest with Patrick Kerssen
DESCRIPTION:
URL:https://www.1812pianolounge.com/event/oktoberfest-with-patrick-kerssen/
END:VEVENT
BEGIN:VEVENT
DTSTART;TZID=America/New_York:20251011T190000
DTEND;TZID=America/New_York:20251011T220000
DTSTAMP:20260422T062559
CREATED:20250917T123854Z
LAST-MODIFIED:20250917T123854Z
UID:644-1760209200-1760220000@www.1812pianolounge.com
SUMMARY:Courtney Cassium & Aiden Heil
DESCRIPTION:
URL:https://www.1812pianolounge.com/event/courtney-cassium-aiden-heil/
END:VEVENT
BEGIN:VEVENT
DTSTART;TZID=America/New_York:20251011T160000
DTEND;TZID=America/New_York:20251011T183000
DTSTAMP:20260422T062559
CREATED:20250917T123649Z
LAST-MODIFIED:20250917T123649Z
UID:642-1760198400-1760207400@www.1812pianolounge.com
SUMMARY:Peggy Love
DESCRIPTION:
URL:https://www.1812pianolounge.com/event/peggy-love-10/
END:VEVENT
END:VCALENDAR