BEGIN:VCALENDAR
VERSION:2.0
PRODID:-//1812 Piano Lounge - ECPv6.15.20//NONSGML v1.0//EN
CALSCALE:GREGORIAN
METHOD:PUBLISH
X-WR-CALNAME:1812 Piano Lounge
X-ORIGINAL-URL:https://www.1812pianolounge.com
X-WR-CALDESC:Events for 1812 Piano Lounge
REFRESH-INTERVAL;VALUE=DURATION:PT1H
X-Robots-Tag:noindex
X-PUBLISHED-TTL:PT1H
BEGIN:VTIMEZONE
TZID:America/New_York
BEGIN:DAYLIGHT
TZOFFSETFROM:-0500
TZOFFSETTO:-0400
TZNAME:EDT
DTSTART:20240310T070000
END:DAYLIGHT
BEGIN:STANDARD
TZOFFSETFROM:-0400
TZOFFSETTO:-0500
TZNAME:EST
DTSTART:20241103T060000
END:STANDARD
BEGIN:DAYLIGHT
TZOFFSETFROM:-0500
TZOFFSETTO:-0400
TZNAME:EDT
DTSTART:20250309T070000
END:DAYLIGHT
BEGIN:STANDARD
TZOFFSETFROM:-0400
TZOFFSETTO:-0500
TZNAME:EST
DTSTART:20251102T060000
END:STANDARD
BEGIN:DAYLIGHT
TZOFFSETFROM:-0500
TZOFFSETTO:-0400
TZNAME:EDT
DTSTART:20260308T070000
END:DAYLIGHT
BEGIN:STANDARD
TZOFFSETFROM:-0400
TZOFFSETTO:-0500
TZNAME:EST
DTSTART:20261101T060000
END:STANDARD
END:VTIMEZONE
BEGIN:VEVENT
DTSTART;TZID=America/New_York:20251213T190000
DTEND;TZID=America/New_York:20251213T220000
DTSTAMP:20260421T204709
CREATED:20251031T161344Z
LAST-MODIFIED:20251031T161344Z
UID:840-1765652400-1765663200@www.1812pianolounge.com
SUMMARY:Tom Costello
DESCRIPTION:
URL:https://www.1812pianolounge.com/event/tom-costello-21/
END:VEVENT
BEGIN:VEVENT
DTSTART;TZID=America/New_York:20251213T160000
DTEND;TZID=America/New_York:20251213T183000
DTSTAMP:20260421T204709
CREATED:20251031T161251Z
LAST-MODIFIED:20251031T161251Z
UID:838-1765641600-1765650600@www.1812pianolounge.com
SUMMARY:It's a Jazz Vibe
DESCRIPTION:
URL:https://www.1812pianolounge.com/event/its-a-jazz-vibe/
END:VEVENT
BEGIN:VEVENT
DTSTART;TZID=America/New_York:20251212T190000
DTEND;TZID=America/New_York:20251212T220000
DTSTAMP:20260421T204709
CREATED:20251203T132705Z
LAST-MODIFIED:20251203T132705Z
UID:887-1765566000-1765576800@www.1812pianolounge.com
SUMMARY:Marisol & Josh
DESCRIPTION:
URL:https://www.1812pianolounge.com/event/marisol-josh-2/
END:VEVENT
BEGIN:VEVENT
DTSTART;TZID=America/New_York:20251212T160000
DTEND;TZID=America/New_York:20251212T183000
DTSTAMP:20260421T204709
CREATED:20251031T161204Z
LAST-MODIFIED:20251209T144710Z
UID:836-1765555200-1765564200@www.1812pianolounge.com
SUMMARY:Tom Costello
DESCRIPTION:
URL:https://www.1812pianolounge.com/event/jake-casella-13/
END:VEVENT
BEGIN:VEVENT
DTSTART;TZID=America/New_York:20251211T170000
DTEND;TZID=America/New_York:20251211T200000
DTSTAMP:20260421T204709
CREATED:20251031T161129Z
LAST-MODIFIED:20251031T161129Z
UID:834-1765472400-1765483200@www.1812pianolounge.com
SUMMARY:Bourbon & Blues w/ BC Blue
DESCRIPTION:
URL:https://www.1812pianolounge.com/event/bourbon-blues-w-bc-blue/
END:VEVENT
BEGIN:VEVENT
DTSTART;TZID=America/New_York:20251210T170000
DTEND;TZID=America/New_York:20251210T200000
DTSTAMP:20260421T204709
CREATED:20251031T160732Z
LAST-MODIFIED:20251031T160732Z
UID:832-1765386000-1765396800@www.1812pianolounge.com
SUMMARY:Tom Costello
DESCRIPTION:
URL:https://www.1812pianolounge.com/event/tom-costello-20/
END:VEVENT
BEGIN:VEVENT
DTSTART;TZID=America/New_York:20251209T173000
DTEND;TZID=America/New_York:20251209T193000
DTSTAMP:20260421T204709
CREATED:20251031T160638Z
LAST-MODIFIED:20251031T160638Z
UID:830-1765301400-1765308600@www.1812pianolounge.com
SUMMARY:Music Trivia
DESCRIPTION:
URL:https://www.1812pianolounge.com/event/music-trivia-5/
END:VEVENT
BEGIN:VEVENT
DTSTART;TZID=America/New_York:20251208T160000
DTEND;TZID=America/New_York:20251208T220000
DTSTAMP:20260421T204709
CREATED:20251031T160603Z
LAST-MODIFIED:20251031T160603Z
UID:828-1765209600-1765231200@www.1812pianolounge.com
SUMMARY:Private Event
DESCRIPTION:
URL:https://www.1812pianolounge.com/event/private-event/
END:VEVENT
BEGIN:VEVENT
DTSTART;TZID=America/New_York:20251206T170000
DTEND;TZID=America/New_York:20251206T220000
DTSTAMP:20260421T204709
CREATED:20251031T160527Z
LAST-MODIFIED:20251031T160527Z
UID:826-1765040400-1765058400@www.1812pianolounge.com
SUMMARY:CJ Steinway
DESCRIPTION:
URL:https://www.1812pianolounge.com/event/cj-steinway-2/
END:VEVENT
BEGIN:VEVENT
DTSTART;TZID=America/New_York:20251205T170000
DTEND;TZID=America/New_York:20251205T220000
DTSTAMP:20260421T204709
CREATED:20251031T160452Z
LAST-MODIFIED:20251031T160452Z
UID:824-1764954000-1764972000@www.1812pianolounge.com
SUMMARY:Liz Bockleman
DESCRIPTION:
URL:https://www.1812pianolounge.com/event/liz-bockleman-3/
END:VEVENT
BEGIN:VEVENT
DTSTART;TZID=America/New_York:20251204T170000
DTEND;TZID=America/New_York:20251204T200000
DTSTAMP:20260421T204709
CREATED:20251031T160247Z
LAST-MODIFIED:20251031T160247Z
UID:822-1764867600-1764878400@www.1812pianolounge.com
SUMMARY:Ted Donatelli
DESCRIPTION:
URL:https://www.1812pianolounge.com/event/ted-donatelli-3/
END:VEVENT
BEGIN:VEVENT
DTSTART;TZID=America/New_York:20251203T170000
DTEND;TZID=America/New_York:20251203T200000
DTSTAMP:20260421T204709
CREATED:20251031T160207Z
LAST-MODIFIED:20251031T160207Z
UID:820-1764781200-1764792000@www.1812pianolounge.com
SUMMARY:Gary Maiatico
DESCRIPTION:
URL:https://www.1812pianolounge.com/event/gary-maiatico-5/
END:VEVENT
BEGIN:VEVENT
DTSTART;TZID=America/New_York:20251202T173000
DTEND;TZID=America/New_York:20251202T193000
DTSTAMP:20260421T204709
CREATED:20251031T160107Z
LAST-MODIFIED:20251031T160107Z
UID:818-1764696600-1764703800@www.1812pianolounge.com
SUMMARY:Music Trivia
DESCRIPTION:
URL:https://www.1812pianolounge.com/event/music-trivia-4/
END:VEVENT
BEGIN:VEVENT
DTSTART;TZID=America/New_York:20251130T103000
DTEND;TZID=America/New_York:20251130T133000
DTSTAMP:20260421T204709
CREATED:20251105T150003Z
LAST-MODIFIED:20251105T150003Z
UID:857-1764498600-1764509400@www.1812pianolounge.com
SUMMARY:Marisol & Josh
DESCRIPTION:
URL:https://www.1812pianolounge.com/event/marisol-josh/
END:VEVENT
BEGIN:VEVENT
DTSTART;TZID=America/New_York:20251130T100000
DTEND;TZID=America/New_York:20251130T140000
DTSTAMP:20260421T204709
CREATED:20251007T195455Z
LAST-MODIFIED:20251007T195455Z
UID:720-1764496800-1764511200@www.1812pianolounge.com
SUMMARY:Brunch
DESCRIPTION:
URL:https://www.1812pianolounge.com/event/brunch-4/
END:VEVENT
BEGIN:VEVENT
DTSTART;TZID=America/New_York:20251129T190000
DTEND;TZID=America/New_York:20251129T220000
DTSTAMP:20260421T204709
CREATED:20251015T170248Z
LAST-MODIFIED:20251015T170248Z
UID:793-1764442800-1764453600@www.1812pianolounge.com
SUMMARY:Courtney Cassium & Aidan Heil
DESCRIPTION:
URL:https://www.1812pianolounge.com/event/courtney-cassium-aidan-heil-3/
END:VEVENT
BEGIN:VEVENT
DTSTART;TZID=America/New_York:20251129T160000
DTEND;TZID=America/New_York:20251129T190000
DTSTAMP:20260421T204709
CREATED:20251015T170158Z
LAST-MODIFIED:20251015T170158Z
UID:791-1764432000-1764442800@www.1812pianolounge.com
SUMMARY:Rachel Hill
DESCRIPTION:
URL:https://www.1812pianolounge.com/event/rachel-hill-3/
END:VEVENT
BEGIN:VEVENT
DTSTART;TZID=America/New_York:20251128T190000
DTEND;TZID=America/New_York:20251128T220000
DTSTAMP:20260421T204709
CREATED:20251015T170017Z
LAST-MODIFIED:20251015T170017Z
UID:787-1764356400-1764367200@www.1812pianolounge.com
SUMMARY:Devin Calderin
DESCRIPTION:
URL:https://www.1812pianolounge.com/event/devin-calderin-2/
END:VEVENT
BEGIN:VEVENT
DTSTART;TZID=America/New_York:20251128T160000
DTEND;TZID=America/New_York:20251128T183000
DTSTAMP:20260421T204709
CREATED:20251015T165942Z
LAST-MODIFIED:20251015T165942Z
UID:785-1764345600-1764354600@www.1812pianolounge.com
SUMMARY:Shawn Lally
DESCRIPTION:
URL:https://www.1812pianolounge.com/event/shawn-lally-5/
END:VEVENT
BEGIN:VEVENT
DTSTART;VALUE=DATE:20251127
DTEND;VALUE=DATE:20251128
DTSTAMP:20260421T204709
CREATED:20251015T170117Z
LAST-MODIFIED:20251015T170117Z
UID:789-1764201600-1764287999@www.1812pianolounge.com
SUMMARY:CLOSED Happy Thanksgiving
DESCRIPTION:
URL:https://www.1812pianolounge.com/event/closed-happy-thanksgiving/
END:VEVENT
BEGIN:VEVENT
DTSTART;TZID=America/New_York:20251126T170000
DTEND;TZID=America/New_York:20251126T220000
DTSTAMP:20260421T204709
CREATED:20251105T145744Z
LAST-MODIFIED:20251105T145744Z
UID:853-1764176400-1764194400@www.1812pianolounge.com
SUMMARY:Tom Costello
DESCRIPTION:
URL:https://www.1812pianolounge.com/event/tom-costello-22/
END:VEVENT
BEGIN:VEVENT
DTSTART;TZID=America/New_York:20251125T180000
DTEND;TZID=America/New_York:20251125T200000
DTSTAMP:20260421T204709
CREATED:20251015T165853Z
LAST-MODIFIED:20251015T165853Z
UID:783-1764093600-1764100800@www.1812pianolounge.com
SUMMARY:Music Trivia
DESCRIPTION:
URL:https://www.1812pianolounge.com/event/music-trivia-2/
END:VEVENT
BEGIN:VEVENT
DTSTART;TZID=America/New_York:20251122T190000
DTEND;TZID=America/New_York:20251122T220000
DTSTAMP:20260421T204709
CREATED:20251015T165811Z
LAST-MODIFIED:20251015T165811Z
UID:781-1763838000-1763848800@www.1812pianolounge.com
SUMMARY:Dueling Pianos with Devin & Mary
DESCRIPTION:
URL:https://www.1812pianolounge.com/event/dueling-pianos-with-devin-mary/
END:VEVENT
BEGIN:VEVENT
DTSTART;TZID=America/New_York:20251122T160000
DTEND;TZID=America/New_York:20251122T180000
DTSTAMP:20260421T204709
CREATED:20251015T165708Z
LAST-MODIFIED:20251015T165708Z
UID:779-1763827200-1763834400@www.1812pianolounge.com
SUMMARY:Music Bingo
DESCRIPTION:
URL:https://www.1812pianolounge.com/event/music-bingo-4/
END:VEVENT
BEGIN:VEVENT
DTSTART;TZID=America/New_York:20251121T190000
DTEND;TZID=America/New_York:20251121T220000
DTSTAMP:20260421T204709
CREATED:20251015T165559Z
LAST-MODIFIED:20251015T165635Z
UID:777-1763751600-1763762400@www.1812pianolounge.com
SUMMARY:Rachel Hill
DESCRIPTION:
URL:https://www.1812pianolounge.com/event/rachel-hill-2/
END:VEVENT
BEGIN:VEVENT
DTSTART;TZID=America/New_York:20251121T160000
DTEND;TZID=America/New_York:20251121T183000
DTSTAMP:20260421T204709
CREATED:20251015T165520Z
LAST-MODIFIED:20251105T150126Z
UID:775-1763740800-1763749800@www.1812pianolounge.com
SUMMARY:Brian Kidd
DESCRIPTION:
URL:https://www.1812pianolounge.com/event/alex-wash-9/
END:VEVENT
BEGIN:VEVENT
DTSTART;TZID=America/New_York:20251120T170000
DTEND;TZID=America/New_York:20251120T200000
DTSTAMP:20260421T204709
CREATED:20251015T165449Z
LAST-MODIFIED:20251015T165449Z
UID:773-1763658000-1763668800@www.1812pianolounge.com
SUMMARY:Peggy Love
DESCRIPTION:
URL:https://www.1812pianolounge.com/event/peggy-love-13/
END:VEVENT
BEGIN:VEVENT
DTSTART;TZID=America/New_York:20251119T170000
DTEND;TZID=America/New_York:20251119T200000
DTSTAMP:20260421T204709
CREATED:20251015T165420Z
LAST-MODIFIED:20251015T165420Z
UID:771-1763571600-1763582400@www.1812pianolounge.com
SUMMARY:Alex Wash
DESCRIPTION:
URL:https://www.1812pianolounge.com/event/alex-wash-8/
END:VEVENT
BEGIN:VEVENT
DTSTART;TZID=America/New_York:20251118T170000
DTEND;TZID=America/New_York:20251118T200000
DTSTAMP:20260421T204709
CREATED:20251015T165329Z
LAST-MODIFIED:20251015T165329Z
UID:769-1763485200-1763496000@www.1812pianolounge.com
SUMMARY:Gary Maiatico
DESCRIPTION:
URL:https://www.1812pianolounge.com/event/gary-maiatico-4/
END:VEVENT
BEGIN:VEVENT
DTSTART;TZID=America/New_York:20251116T103000
DTEND;TZID=America/New_York:20251116T133000
DTSTAMP:20260421T204709
CREATED:20251105T145916Z
LAST-MODIFIED:20251105T145916Z
UID:855-1763289000-1763299800@www.1812pianolounge.com
SUMMARY:It's a Jazz Vibe
DESCRIPTION:
URL:https://www.1812pianolounge.com/event/its-a-jazz-vibe-2/
END:VEVENT
END:VCALENDAR