BEGIN:VCALENDAR
VERSION:2.0
PRODID:-//1812 Piano Lounge - ECPv6.15.20//NONSGML v1.0//EN
CALSCALE:GREGORIAN
METHOD:PUBLISH
X-WR-CALNAME:1812 Piano Lounge
X-ORIGINAL-URL:https://www.1812pianolounge.com
X-WR-CALDESC:Events for 1812 Piano Lounge
REFRESH-INTERVAL;VALUE=DURATION:PT1H
X-Robots-Tag:noindex
X-PUBLISHED-TTL:PT1H
BEGIN:VTIMEZONE
TZID:America/New_York
BEGIN:DAYLIGHT
TZOFFSETFROM:-0500
TZOFFSETTO:-0400
TZNAME:EDT
DTSTART:20250309T070000
END:DAYLIGHT
BEGIN:STANDARD
TZOFFSETFROM:-0400
TZOFFSETTO:-0500
TZNAME:EST
DTSTART:20251102T060000
END:STANDARD
BEGIN:DAYLIGHT
TZOFFSETFROM:-0500
TZOFFSETTO:-0400
TZNAME:EDT
DTSTART:20260308T070000
END:DAYLIGHT
BEGIN:STANDARD
TZOFFSETFROM:-0400
TZOFFSETTO:-0500
TZNAME:EST
DTSTART:20261101T060000
END:STANDARD
BEGIN:DAYLIGHT
TZOFFSETFROM:-0500
TZOFFSETTO:-0400
TZNAME:EDT
DTSTART:20270314T070000
END:DAYLIGHT
BEGIN:STANDARD
TZOFFSETFROM:-0400
TZOFFSETTO:-0500
TZNAME:EST
DTSTART:20271107T060000
END:STANDARD
END:VTIMEZONE
BEGIN:VEVENT
DTSTART;TZID=America/New_York:20260401T170000
DTEND;TZID=America/New_York:20260401T200000
DTSTAMP:20260419T083524
CREATED:20260316T154055Z
LAST-MODIFIED:20260319T173425Z
UID:1239-1775062800-1775073600@www.1812pianolounge.com
SUMMARY:Ted Donatelli
DESCRIPTION:https://www.facebook.com/share/1CYQvCyJ5Z/?
URL:https://www.1812pianolounge.com/event/ted-donatelli-8/
END:VEVENT
BEGIN:VEVENT
DTSTART;TZID=America/New_York:20260402T170000
DTEND;TZID=America/New_York:20260402T200000
DTSTAMP:20260419T083524
CREATED:20260316T154352Z
LAST-MODIFIED:20260316T154352Z
UID:1241-1775149200-1775160000@www.1812pianolounge.com
SUMMARY:Gary Maiatico
DESCRIPTION:
URL:https://www.1812pianolounge.com/event/gary-maiatico-8/
END:VEVENT
BEGIN:VEVENT
DTSTART;TZID=America/New_York:20260403T043000
DTEND;TZID=America/New_York:20260403T183000
DTSTAMP:20260419T083524
CREATED:20260324T200242Z
LAST-MODIFIED:20260324T200242Z
UID:1287-1775190600-1775241000@www.1812pianolounge.com
SUMMARY:Nick Cerniglia
DESCRIPTION:
URL:https://www.1812pianolounge.com/event/nick-cerniglia/
END:VEVENT
BEGIN:VEVENT
DTSTART;TZID=America/New_York:20260403T190000
DTEND;TZID=America/New_York:20260403T220000
DTSTAMP:20260419T083524
CREATED:20260316T155650Z
LAST-MODIFIED:20260316T155650Z
UID:1243-1775242800-1775253600@www.1812pianolounge.com
SUMMARY:Rachel Hill
DESCRIPTION:
URL:https://www.1812pianolounge.com/event/rachel-hill-5/
END:VEVENT
BEGIN:VEVENT
DTSTART;TZID=America/New_York:20260404T163000
DTEND;TZID=America/New_York:20260404T220000
DTSTAMP:20260419T083524
CREATED:20260324T200354Z
LAST-MODIFIED:20260324T200354Z
UID:1289-1775320200-1775340000@www.1812pianolounge.com
SUMMARY:Tom Costello
DESCRIPTION:
URL:https://www.1812pianolounge.com/event/tom-costello-30/
END:VEVENT
BEGIN:VEVENT
DTSTART;TZID=America/New_York:20260406T170000
DTEND;TZID=America/New_York:20260406T200000
DTSTAMP:20260419T083524
CREATED:20260407T174700Z
LAST-MODIFIED:20260407T174700Z
UID:1376-1775494800-1775505600@www.1812pianolounge.com
SUMMARY:Open mic & Vinyl night
DESCRIPTION:
URL:https://www.1812pianolounge.com/event/open-mic-vinyl-night/
END:VEVENT
BEGIN:VEVENT
DTSTART;TZID=America/New_York:20260407T180000
DTEND;TZID=America/New_York:20260407T200000
DTSTAMP:20260419T083524
CREATED:20260324T200523Z
LAST-MODIFIED:20260324T200523Z
UID:1291-1775584800-1775592000@www.1812pianolounge.com
SUMMARY:Music Trivia
DESCRIPTION:
URL:https://www.1812pianolounge.com/event/music-trivia-15/
END:VEVENT
BEGIN:VEVENT
DTSTART;TZID=America/New_York:20260408T170000
DTEND;TZID=America/New_York:20260408T200000
DTSTAMP:20260419T083524
CREATED:20260316T155856Z
LAST-MODIFIED:20260316T155856Z
UID:1245-1775667600-1775678400@www.1812pianolounge.com
SUMMARY:Melody Cruz
DESCRIPTION:
URL:https://www.1812pianolounge.com/event/melody-cruz-2/
END:VEVENT
BEGIN:VEVENT
DTSTART;TZID=America/New_York:20260409T170000
DTEND;TZID=America/New_York:20260409T200000
DTSTAMP:20260419T083524
CREATED:20260316T155936Z
LAST-MODIFIED:20260407T174112Z
UID:1247-1775754000-1775764800@www.1812pianolounge.com
SUMMARY:Bev Conklin w/ BC Blue
DESCRIPTION:
URL:https://www.1812pianolounge.com/event/michael-sheerer/
END:VEVENT
BEGIN:VEVENT
DTSTART;TZID=America/New_York:20260410T163000
DTEND;TZID=America/New_York:20260410T183000
DTSTAMP:20260419T083524
CREATED:20260316T160013Z
LAST-MODIFIED:20260316T160013Z
UID:1249-1775838600-1775845800@www.1812pianolounge.com
SUMMARY:Peggy Love
DESCRIPTION:
URL:https://www.1812pianolounge.com/event/peggy-love-21/
END:VEVENT
BEGIN:VEVENT
DTSTART;TZID=America/New_York:20260410T190000
DTEND;TZID=America/New_York:20260410T220000
DTSTAMP:20260419T083524
CREATED:20260316T160159Z
LAST-MODIFIED:20260316T160159Z
UID:1251-1775847600-1775858400@www.1812pianolounge.com
SUMMARY:Courtney & Aiden
DESCRIPTION:
URL:https://www.1812pianolounge.com/event/courtney-aiden-3/
END:VEVENT
BEGIN:VEVENT
DTSTART;TZID=America/New_York:20260411T163000
DTEND;TZID=America/New_York:20260411T183000
DTSTAMP:20260419T083524
CREATED:20260316T160435Z
LAST-MODIFIED:20260409T174405Z
UID:1255-1775925000-1775932200@www.1812pianolounge.com
SUMMARY:Marisol
DESCRIPTION:
URL:https://www.1812pianolounge.com/event/marisol-6/
END:VEVENT
BEGIN:VEVENT
DTSTART;TZID=America/New_York:20260411T190000
DTEND;TZID=America/New_York:20260411T220000
DTSTAMP:20260419T083524
CREATED:20260316T160238Z
LAST-MODIFIED:20260316T160238Z
UID:1253-1775934000-1775944800@www.1812pianolounge.com
SUMMARY:CJ Steinway
DESCRIPTION:
URL:https://www.1812pianolounge.com/event/cj-steinway-8/
END:VEVENT
BEGIN:VEVENT
DTSTART;TZID=America/New_York:20260414T160000
DTEND;TZID=America/New_York:20260414T180000
DTSTAMP:20260419T083524
CREATED:20260324T205022Z
LAST-MODIFIED:20260324T205156Z
UID:1301-1776182400-1776189600@www.1812pianolounge.com
SUMMARY:Happy Hour with Tom Costello
DESCRIPTION:
URL:https://www.1812pianolounge.com/event/happy-hour-with-tom-costello-2/
END:VEVENT
BEGIN:VEVENT
DTSTART;TZID=America/New_York:20260414T180000
DTEND;TZID=America/New_York:20260414T200000
DTSTAMP:20260419T083524
CREATED:20260324T200726Z
LAST-MODIFIED:20260324T200726Z
UID:1297-1776189600-1776196800@www.1812pianolounge.com
SUMMARY:Music Bingo
DESCRIPTION:
URL:https://www.1812pianolounge.com/event/music-bingo-13/
END:VEVENT
BEGIN:VEVENT
DTSTART;TZID=America/New_York:20260415T170000
DTEND;TZID=America/New_York:20260415T200000
DTSTAMP:20260419T083524
CREATED:20260316T160519Z
LAST-MODIFIED:20260316T160519Z
UID:1257-1776272400-1776283200@www.1812pianolounge.com
SUMMARY:Hannah Noel
DESCRIPTION:
URL:https://www.1812pianolounge.com/event/hannah-noel-2/
END:VEVENT
BEGIN:VEVENT
DTSTART;TZID=America/New_York:20260416T170000
DTEND;TZID=America/New_York:20260416T200000
DTSTAMP:20260419T083524
CREATED:20260330T143403Z
LAST-MODIFIED:20260330T143403Z
UID:1310-1776358800-1776369600@www.1812pianolounge.com
SUMMARY:Sarah Harrington
DESCRIPTION:
URL:https://www.1812pianolounge.com/event/sarah-harrington/
END:VEVENT
BEGIN:VEVENT
DTSTART;TZID=America/New_York:20260417T170000
DTEND;TZID=America/New_York:20260417T220000
DTSTAMP:20260419T083524
CREATED:20260316T160627Z
LAST-MODIFIED:20260316T160627Z
UID:1259-1776445200-1776463200@www.1812pianolounge.com
SUMMARY:Lis Bockelman
DESCRIPTION:
URL:https://www.1812pianolounge.com/event/lis-bockelman-7/
END:VEVENT
BEGIN:VEVENT
DTSTART;TZID=America/New_York:20260418T163000
DTEND;TZID=America/New_York:20260418T183000
DTSTAMP:20260419T083524
CREATED:20260330T143447Z
LAST-MODIFIED:20260409T174434Z
UID:1312-1776529800-1776537000@www.1812pianolounge.com
SUMMARY:Maniya
DESCRIPTION:
URL:https://www.1812pianolounge.com/event/maniya-2/
END:VEVENT
BEGIN:VEVENT
DTSTART;TZID=America/New_York:20260418T190000
DTEND;TZID=America/New_York:20260418T220000
DTSTAMP:20260419T083524
CREATED:20260316T160722Z
LAST-MODIFIED:20260316T160722Z
UID:1261-1776538800-1776549600@www.1812pianolounge.com
SUMMARY:Shaun Lally
DESCRIPTION:
URL:https://www.1812pianolounge.com/event/shaun-lally-6/
END:VEVENT
BEGIN:VEVENT
DTSTART;TZID=America/New_York:20260419T160000
DTEND;TZID=America/New_York:20260419T190000
DTSTAMP:20260419T083524
CREATED:20260316T160810Z
LAST-MODIFIED:20260407T174917Z
UID:1263-1776614400-1776625200@www.1812pianolounge.com
SUMMARY:Sunday Super with Courtney & Aiden
DESCRIPTION:https://www.facebook.com/share/18UkEkpsFv/?
URL:https://www.1812pianolounge.com/event/courtney-aiden-4/
END:VEVENT
BEGIN:VEVENT
DTSTART;TZID=America/New_York:20260421T180000
DTEND;TZID=America/New_York:20260421T200000
DTSTAMP:20260419T083524
CREATED:20260324T200553Z
LAST-MODIFIED:20260324T200553Z
UID:1293-1776794400-1776801600@www.1812pianolounge.com
SUMMARY:Music Bingo
DESCRIPTION:
URL:https://www.1812pianolounge.com/event/music-bingo-9/
END:VEVENT
BEGIN:VEVENT
DTSTART;TZID=America/New_York:20260422T170000
DTEND;TZID=America/New_York:20260422T200000
DTSTAMP:20260419T083524
CREATED:20260316T160835Z
LAST-MODIFIED:20260316T160835Z
UID:1265-1776877200-1776888000@www.1812pianolounge.com
SUMMARY:Brian Kidd
DESCRIPTION:
URL:https://www.1812pianolounge.com/event/brian-kidd-8/
END:VEVENT
BEGIN:VEVENT
DTSTART;TZID=America/New_York:20260423T170000
DTEND;TZID=America/New_York:20260423T200000
DTSTAMP:20260419T083524
CREATED:20260316T160859Z
LAST-MODIFIED:20260316T160859Z
UID:1267-1776963600-1776974400@www.1812pianolounge.com
SUMMARY:Marisol
DESCRIPTION:
URL:https://www.1812pianolounge.com/event/marisol-7/
END:VEVENT
BEGIN:VEVENT
DTSTART;TZID=America/New_York:20260424T163000
DTEND;TZID=America/New_York:20260424T183000
DTSTAMP:20260419T083524
CREATED:20260316T161100Z
LAST-MODIFIED:20260414T150901Z
UID:1269-1777048200-1777055400@www.1812pianolounge.com
SUMMARY:Rue Vega
DESCRIPTION:
URL:https://www.1812pianolounge.com/event/rue/
END:VEVENT
BEGIN:VEVENT
DTSTART;TZID=America/New_York:20260424T190000
DTEND;TZID=America/New_York:20260424T220000
DTSTAMP:20260419T083524
CREATED:20260316T161304Z
LAST-MODIFIED:20260316T161304Z
UID:1271-1777057200-1777068000@www.1812pianolounge.com
SUMMARY:Kerrie & Pete
DESCRIPTION:
URL:https://www.1812pianolounge.com/event/kerrie-pete-4/
END:VEVENT
BEGIN:VEVENT
DTSTART;TZID=America/New_York:20260425T170000
DTEND;TZID=America/New_York:20260425T220000
DTSTAMP:20260419T083524
CREATED:20260330T143607Z
LAST-MODIFIED:20260330T143607Z
UID:1315-1777136400-1777154400@www.1812pianolounge.com
SUMMARY:Tom Costello with Arianna
DESCRIPTION:
URL:https://www.1812pianolounge.com/event/tom-costello-with-arianna/
END:VEVENT
BEGIN:VEVENT
DTSTART;TZID=America/New_York:20260427T170000
DTEND;TZID=America/New_York:20260427T210000
DTSTAMP:20260419T083524
CREATED:20260203T164247Z
LAST-MODIFIED:20260325T190650Z
UID:1170-1777309200-1777323600@www.1812pianolounge.com
SUMMARY:Wine Dinner with Tom Costello
DESCRIPTION:Join us for a 5-course wine pairing dinner! $100.00 per person includes tax and gratuity. Call for reservations 484-274-6208. \nIst Course \nCured salmon crudo. fennel. fennel frond oil\, roe \n-Tonnino Costa Del Pero Grillo. Sicily \n2nd Course \nPotato gnocchi\, pistachio\, guanciale\, lemon\, egg yolk \n~ Montalbera Fuori Catalogo Piemonte Rosso. Italy \n3rd Course \nCabbage salad. Napa cabbage. bok choy. radicchio. crispy malanga. curry vinaigrette \n~ Angels & Cowboys Rose. Sonoma \n4th Course \nShort rib. celery root puree\, caramelized carrot. black garlic demi glace. gremolata\, pickled shallot \n-BR Cohn Cabernet Sauvignon Sonoma \nDessert \nBlack sesame tart\, black sesame curd\, sesame brittle. \nganache. vanilla bean ice cream \n~Bodega 50l Pedro Ximenez Sherry
URL:https://www.1812pianolounge.com/event/wine-pariing-dinner/
END:VEVENT
BEGIN:VEVENT
DTSTART;TZID=America/New_York:20260428T180000
DTEND;TZID=America/New_York:20260428T200000
DTSTAMP:20260419T083524
CREATED:20260324T200621Z
LAST-MODIFIED:20260324T200621Z
UID:1295-1777399200-1777406400@www.1812pianolounge.com
SUMMARY:Music Bingo
DESCRIPTION:
URL:https://www.1812pianolounge.com/event/music-bingo-12/
END:VEVENT
BEGIN:VEVENT
DTSTART;TZID=America/New_York:20260429T170000
DTEND;TZID=America/New_York:20260429T200000
DTSTAMP:20260419T083524
CREATED:20260316T161528Z
LAST-MODIFIED:20260316T161528Z
UID:1275-1777482000-1777492800@www.1812pianolounge.com
SUMMARY:Gary Maiatico
DESCRIPTION:
URL:https://www.1812pianolounge.com/event/gary-maiatico-9/
END:VEVENT
END:VCALENDAR